NuPoP 1.0.0 Ji-Ping Wang
 | Snapshot Date: 2011-03-30 23:22:56 -0700 (Wed, 30 Mar 2011) |  | URL: https://hedgehog.fhcrc.org/bioconductor/branches/RELEASE_2_7/madman/Rpacks/NuPoP |  | Last Changed Rev: 50293 / Revision: 54281 |  | Last Changed Date: 2010-10-17 22:34:23 -0700 (Sun, 17 Oct 2010) |  
  | lamb2  | Linux (openSUSE 11.2) / x86_64  |  OK  |  OK  |  | 
| liverpool  | Windows Server 2003 R2 (32-bit) / x64  |  OK  |  OK  |  OK  | 
| gewurz  | Windows Server 2008 R2 Enterprise (64-bit) / x64  |  OK  |  OK  | [ OK ] | 
| pelham  | Mac OS X Leopard (10.5.8) / i386  |  OK  |  OK  |  OK  | 
* installing *source* package 'NuPoP' ...
** libs
x86_64-w64-mingw32-gfortran   -O2  -c  vtbfb.f90 -o vtbfb.o
x86_64-w64-mingw32-gfortran   -O2  -c  vtbfbNL4.f90 -o vtbfbNL4.o
x86_64-w64-mingw32-gfortran -shared -s -static-libgcc -o NuPoP.dll tmp.def vtbfb.o vtbfbNL4.o -LD:/biocbld/bbs-2.7-bioc/R/bin/x64 -lR
installing to D:/biocbld/bbs-2.7-bioc/meat/NuPoP.buildbin-libdir/NuPoP/libs/x64
** R
** inst
** preparing package for lazy loading
** help
*** installing help indices
** building package indices ...
** testing if installed package can be loaded
* MD5 sums
packaged installation of 'NuPoP' as NuPoP_1.0.0.zip
* DONE (NuPoP)