| GeneGA 0.99.1 Zhenpeng Li
 
 | Snapshot Date: 2010-10-10 23:20:21 -0700 (Sun, 10 Oct 2010) |  | URL: https://hedgehog.fhcrc.org/bioconductor/trunk/madman/Rpacks/GeneGA |  | Last Changed Rev: 50068 / Revision: 50084 |  | Last Changed Date: 2010-10-09 19:29:58 -0700 (Sat, 09 Oct 2010) | 
 | lamb2 | Linux (openSUSE 11.2) / x86_64 | OK | OK |  | 
| liverpool | Windows Server 2003 R2 (32-bit) / x64 | [ ERROR ] | skipped | skipped | 
| gewurz | Windows Server 2008 R2 Enterprise (64-bit) / x64 | ERROR | skipped | skipped | 
| pelham | Mac OS X Leopard (10.5.8) / i386 | OK | OK | OK | 
* checking for file 'GeneGA/DESCRIPTION' ... OK
* preparing 'GeneGA':
* checking DESCRIPTION meta-information ... OK
* installing the package to re-build vignettes
      -----------------------------------
ERROR: dependency 'GeneRfold' is not available for package 'GeneGA'
* removing 'E:/biocbld/bbs-2.7-bioc/tmpdir/Rtmp4MWbEF/Rinst5dcc5f/GeneGA'
      -----------------------------------
ERROR: Installation failed
Removing installation dir