| Category 2.16.1 Biocore Team c/o BioC user list
 
 | Snapshot Date: 2011-03-30 23:22:56 -0700 (Wed, 30 Mar 2011) |  | URL: https://hedgehog.fhcrc.org/bioconductor/branches/RELEASE_2_7/madman/Rpacks/Category |  | Last Changed Rev: 53120 / Revision: 54281 |  | Last Changed Date: 2011-02-23 13:31:41 -0800 (Wed, 23 Feb 2011) | 
 | lamb2 | Linux (openSUSE 11.2) / x86_64 | OK | OK |  | 
| liverpool | Windows Server 2003 R2 (32-bit) / x64 | OK | OK | OK | 
| gewurz | Windows Server 2008 R2 Enterprise (64-bit) / x64 | OK | OK | OK | 
| pelham | Mac OS X Leopard (10.5.8) / i386 | OK | OK | [ OK ] | 
>>>>>>> 
>>>>>>> INSTALLATION WITH 'R CMD INSTALL --preclean --library=Category.buildbin-libdir Category_2.16.1.tar.gz'
>>>>>>> 
* installing *source* package ‘Category’ ...
** R
** inst
** preparing package for lazy loading
Loading required package: Biobase
Welcome to Bioconductor
  Vignettes contain introductory material. To view, type
  'openVignette()'. To cite Bioconductor, see
  'citation("Biobase")' and for packages 'citation(pkgname)'.
** help
*** installing help indices
** building package indices ...
** testing if installed package can be loaded
* DONE (Category)