| BeadDataPackR 1.2.1 Mike Smith
 
 | Snapshot Date: 2011-03-30 23:22:56 -0700 (Wed, 30 Mar 2011) |  | URL: https://hedgehog.fhcrc.org/bioconductor/branches/RELEASE_2_7/madman/Rpacks/BeadDataPackR |  | Last Changed Rev: 52518 / Revision: 54281 |  | Last Changed Date: 2011-02-07 06:56:16 -0800 (Mon, 07 Feb 2011) | 
 | lamb2 | Linux (openSUSE 11.2) / x86_64 | OK | OK |  | 
| liverpool | Windows Server 2003 R2 (32-bit) / x64 | OK | OK | [ OK ] | 
| gewurz | Windows Server 2008 R2 Enterprise (64-bit) / x64 | OK | OK | OK | 
| pelham | Mac OS X Leopard (10.5.8) / i386 | OK | OK | OK | 
* installing *source* package 'BeadDataPackR' ...
** libs
gcc -I"E:/biocbld/bbs-2.7-bioc/R/include"         -O3 -Wall  -std=gnu99 -c BeadDataPackR.c -o BeadDataPackR.o
gcc -I"E:/biocbld/bbs-2.7-bioc/R/include"         -O3 -Wall  -std=gnu99 -c R_init_BeadDataPackR.c -o R_init_BeadDataPackR.o
gcc -shared -s -static-libgcc -o BeadDataPackR.dll tmp.def BeadDataPackR.o R_init_BeadDataPackR.o -LE:/biocbld/bbs-2.7-bioc/R/bin/i386 -lR
installing to E:/biocbld/bbs-2.7-bioc/meat/BeadDataPackR.buildbin-libdir/BeadDataPackR/libs/i386
** R
** data
** inst
** preparing package for lazy loading
** help
*** installing help indices
** building package indices ...
** testing if installed package can be loaded
* MD5 sums
packaged installation of 'BeadDataPackR' as BeadDataPackR_1.2.1.zip
* DONE (BeadDataPackR)