BAC 1.10.0 Raphael Gottardo
 | Snapshot Date: 2011-03-30 23:22:56 -0700 (Wed, 30 Mar 2011) |  | URL: https://hedgehog.fhcrc.org/bioconductor/branches/RELEASE_2_7/madman/Rpacks/BAC |  | Last Changed Rev: 50293 / Revision: 54281 |  | Last Changed Date: 2010-10-17 22:34:23 -0700 (Sun, 17 Oct 2010) |  
  | lamb2  | Linux (openSUSE 11.2) / x86_64  |  OK  |  OK  |  | 
| liverpool  | Windows Server 2003 R2 (32-bit) / x64  |  OK  |  OK  | [ OK ] | 
| gewurz  | Windows Server 2008 R2 Enterprise (64-bit) / x64  |  OK  |  OK  |  OK  | 
| pelham  | Mac OS X Leopard (10.5.8) / i386  |  OK  |  OK  |  OK  | 
* installing *source* package 'BAC' ...
  Using auto-selected zip option '--use-zip-data'
** libs
gcc -I"E:/biocbld/bbs-2.7-bioc/R/include"         -O3 -Wall  -std=gnu99 -c BAC.c -o BAC.o
gcc -I"E:/biocbld/bbs-2.7-bioc/R/include"         -O3 -Wall  -std=gnu99 -c util.c -o util.o
gcc -shared -s -static-libgcc -o BAC.dll tmp.def BAC.o util.o -LE:/biocbld/bbs-2.7-bioc/R/bin/i386 -lR
installing to E:/biocbld/bbs-2.7-bioc/meat/BAC.buildbin-libdir/BAC/libs/i386
** R
** data
** inst
** preparing package for lazy loading
** help
*** installing help indices
** building package indices ...
** testing if installed package can be loaded
* MD5 sums
packaged installation of 'BAC' as BAC_1.10.0.zip
* DONE (BAC)