Back to the "Multiple platform build/check report" |
Package 71/83 | Hostname | OS / Arch | BUILD | CHECK | BUILD BIN | ||||
rfcdmin 1.6.11 N. Le Meur
| wilson1 | Linux (openSUSE 11.1) / x86_64 | [ OK ] | OK | |||||
liverpool | Windows Server 2003 R2 (32-bit) / x64 | OK | OK | OK | |||||
pelham | Mac OS X Leopard (10.5.8) / i386 | OK | OK | OK |
Package: rfcdmin |
Version: 1.6.11 |
Command: /home/biocbuild/bbs-2.6-bioc/R/bin/R CMD build rfcdmin |
StartedAt: 2010-09-24 01:42:49 -0700 (Fri, 24 Sep 2010) |
EndedAt: 2010-09-24 01:42:53 -0700 (Fri, 24 Sep 2010) |
EllapsedTime: 4.5 seconds |
RetCode: 0 |
Status: OK |
PackageFile: rfcdmin_1.6.11.tar.gz |
PackageFileSize: 26.3 MiB |
* checking for file 'rfcdmin/DESCRIPTION' ... OK * preparing 'rfcdmin': * checking DESCRIPTION meta-information ... OK * removing junk files * checking for LF line-endings in source and make files * checking for empty or unneeded directories * building 'rfcdmin_1.6.11.tar.gz'