| kidpack 1.5.7 Wolfgang Huber
 
 | Snapshot Date: 2010-09-24 00:28:34 -0700 (Fri, 24 Sep 2010) |  | URL: https://hedgehog.fhcrc.org/bioc-data/trunk/experiment/pkgs/kidpack |  | Last Changed Rev: 1057 / Revision: 1309 |  | Last Changed Date: 2009-10-13 23:37:03 -0700 (Tue, 13 Oct 2009) | 
 | wilson1 | Linux (openSUSE 11.1) / x86_64 | [ OK ] | OK |  | 
| liverpool | Windows Server 2003 R2 (32-bit) / x64 | OK | OK | OK | 
| pelham | Mac OS X Leopard (10.5.8) / i386 | OK | OK | OK | 
* checking for file 'kidpack/DESCRIPTION' ... OK
* preparing 'kidpack':
* checking DESCRIPTION meta-information ... OK
* installing the package to re-build vignettes
* installing *source* package 'kidpack' ...
** R
** data
** inst
** preparing package for lazy loading
Welcome to Bioconductor
  Vignettes contain introductory material. To view, type
  'openVignette()'. To cite Bioconductor, see
  'citation("Biobase")' and for packages 'citation(pkgname)'.
** help
*** installing help indices
** building package indices ...
** testing if installed package can be loaded
*** Deprecation warning ***:
The package 'kidpack' is deprecated and will not be supported after Bioconductor release 2.1.
* DONE (kidpack)
* creating vignettes ... OK
* removing junk files
* checking for LF line-endings in source and make files
* checking for empty or unneeded directories
* building 'kidpack_1.5.7.tar.gz'