| name | user | system | elapsed | 
| anoCar1.ensGene.LENGTH | 0.11 | 0.05 | 0.15 |  | 
| anoCar1.genscan.LENGTH | 0.09 | 0.09 | 0.19 |  | 
| anoCar1.xenoRefGene.LENGTH | 1.53 | 0.16 | 1.69 |  | 
| anoGam1.ensGene.LENGTH | 0.36 | 0.03 | 0.39 |  | 
| anoGam1.geneid.LENGTH | 0.09 | 0.08 | 0.17 |  | 
| anoGam1.genscan.LENGTH | 0.07 | 0.11 | 0.17 |  | 
| apiMel1.genscan.LENGTH | 0.06 | 0.09 | 0.15 |  | 
| apiMel2.ensGene.LENGTH | 0.11 | 0.09 | 0.21 |  | 
| apiMel2.geneid.LENGTH | 0.14 | 0.05 | 0.19 |  | 
| apiMel2.genscan.LENGTH | 0.14 | 0.02 | 0.15 |  | 
| aplCal1.xenoRefGene.LENGTH | 0.67 | 0.07 | 0.75 |  | 
| bosTau2.geneSymbol.LENGTH | 0.10 | 0.08 | 0.17 |  | 
| bosTau2.geneid.LENGTH | 0.68 | 0.10 | 0.78 |  | 
| bosTau2.genscan.LENGTH | 0.17 | 0.09 | 0.27 |  | 
| bosTau2.refGene.LENGTH | 0.10 | 0.05 | 0.14 |  | 
| bosTau2.sgpGene.LENGTH | 0.22 | 0.01 | 0.23 |  | 
| bosTau3.ensGene.LENGTH | 0.43 | 0.05 | 0.49 |  | 
| bosTau3.geneSymbol.LENGTH | 0.02 | 0.09 | 0.11 |  | 
| bosTau3.geneid.LENGTH | 0.17 | 0.08 | 0.25 |  | 
| bosTau3.genscan.LENGTH | 0.17 | 0.02 | 0.19 |  | 
| bosTau3.refGene.LENGTH | 0.03 | 0.07 | 0.11 |  | 
| bosTau3.sgpGene.LENGTH | 0.2 | 0.1 | 0.3 |  | 
| bosTau4.ensGene.LENGTH | 0.19 | 0.06 | 0.25 |  | 
| bosTau4.geneSymbol.LENGTH | 0.06 | 0.05 | 0.11 |  | 
| bosTau4.genscan.LENGTH | 0.13 | 0.06 | 0.19 |  | 
| bosTau4.nscanGene.LENGTH | 0.11 | 0.02 | 0.13 |  | 
| bosTau4.refGene.LENGTH | 0.08 | 0.04 | 0.12 |  | 
| braFlo1.xenoRefGene.LENGTH | 0.88 | 0.11 | 0.99 |  | 
| caeJap1.xenoRefGene.LENGTH | 0.53 | 0.03 | 0.57 |  | 
| caePb1.xenoRefGene.LENGTH | 0.70 | 0.02 | 0.71 |  | 
| caePb2.xenoRefGene.LENGTH | 0.70 | 0.12 | 0.83 |  | 
| caeRem2.xenoRefGene.LENGTH | 0.63 | 0.05 | 0.67 |  | 
| caeRem3.xenoRefGene.LENGTH | 0.58 | 0.08 | 0.65 |  | 
| calJac1.genscan.LENGTH | 0.23 | 0.09 | 0.33 |  | 
| calJac1.nscanGene.LENGTH | 0.17 | 0.03 | 0.20 |  | 
| calJac1.xenoRefGene.LENGTH | 1.25 | 0.04 | 1.28 |  | 
| canFam1.ensGene.LENGTH | 0.18 | 0.03 | 0.20 |  | 
| canFam1.geneSymbol.LENGTH | 0.01 | 0.00 | 0.02 |  | 
| canFam1.genscan.LENGTH | 0.16 | 0.07 | 0.24 |  | 
| canFam1.nscanGene.LENGTH | 0.2 | 0.0 | 0.2 |  | 
| canFam1.refGene.LENGTH | 0.00 | 0.04 | 0.03 |  | 
| canFam1.xenoRefGene.LENGTH | 0.92 | 0.09 | 1.01 |  | 
| canFam2.ensGene.LENGTH | 0.24 | 0.05 | 0.28 |  | 
| canFam2.geneSymbol.LENGTH | 0.00 | 0.01 | 0.02 |  | 
| canFam2.genscan.LENGTH | 0.09 | 0.06 | 0.15 |  | 
| canFam2.nscanGene.LENGTH | 0.13 | 0.02 | 0.14 |  | 
| canFam2.refGene.LENGTH | 0.00 | 0.03 | 0.03 |  | 
| canFam2.xenoRefGene.LENGTH | 1.32 | 0.05 | 1.38 |  | 
| cavPor3.ensGene.LENGTH | 0.14 | 0.05 | 0.19 |  | 
| cavPor3.genscan.LENGTH | 0.19 | 0.04 | 0.23 |  | 
| cavPor3.nscanGene.LENGTH | 0.16 | 0.05 | 0.20 |  | 
| cavPor3.xenoRefGene.LENGTH | 1.30 | 0.11 | 1.41 |  | 
| cb1.xenoRefGene.LENGTH | 0.70 | 0.03 | 0.73 |  | 
| cb3.xenoRefGene.LENGTH | 0.56 | 0.00 | 0.57 |  | 
| ce2.geneSymbol.LENGTH | 0.11 | 0.14 | 0.25 |  | 
| ce2.geneid.LENGTH | 0.14 | 0.00 | 0.14 |  | 
| ce2.refGene.LENGTH | 0.14 | 0.09 | 0.42 |  | 
| ce4.geneSymbol.LENGTH | 0.10 | 0.14 | 0.23 |  | 
| ce4.refGene.LENGTH | 0.09 | 0.15 | 0.23 |  | 
| ce4.xenoRefGene.LENGTH | 0.13 | 0.00 | 0.12 |  | 
| ce6.ensGene.LENGTH | 0.17 | 0.04 | 0.22 |  | 
| ce6.geneSymbol.LENGTH | 0.14 | 0.11 | 0.25 |  | 
| ce6.refGene.LENGTH | 0.11 | 0.13 | 0.24 |  | 
| ce6.xenoRefGene.LENGTH | 0.14 | 0.00 | 0.14 |  | 
| ci1.geneSymbol.LENGTH | 0.03 | 0.00 | 0.03 |  | 
| ci1.refGene.LENGTH | 0.02 | 0.00 | 0.02 |  | 
| ci1.xenoRefGene.LENGTH | 0.34 | 0.03 | 0.38 |  | 
| ci2.ensGene.LENGTH | 0.11 | 0.01 | 0.12 |  | 
| ci2.geneSymbol.LENGTH | 0.00 | 0.03 | 0.03 |  | 
| ci2.refGene.LENGTH | 0.02 | 0.00 | 0.02 |  | 
| ci2.xenoRefGene.LENGTH | 0.62 | 0.08 | 0.70 |  | 
| danRer3.ensGene.LENGTH | 0.38 | 0.10 | 0.47 |  | 
| danRer3.geneSymbol.LENGTH | 0.06 | 0.11 | 0.17 |  | 
| danRer3.refGene.LENGTH | 0.14 | 0.03 | 0.18 |  | 
| danRer4.ensGene.LENGTH | 0.17 | 0.03 | 0.20 |  | 
| danRer4.geneSymbol.LENGTH | 0.10 | 0.08 | 0.18 |  | 
| danRer4.genscan.LENGTH | 0.11 | 0.04 | 0.15 |  | 
| danRer4.nscanGene.LENGTH | 0.18 | 0.07 | 0.25 |  | 
| danRer4.refGene.LENGTH | 0.10 | 0.06 | 0.15 |  | 
| danRer5.ensGene.LENGTH | 0.19 | 0.01 | 0.20 |  | 
| danRer5.geneSymbol.LENGTH | 0.08 | 0.10 | 0.17 |  | 
| danRer5.refGene.LENGTH | 0.09 | 0.04 | 0.14 |  | 
| danRer5.vegaGene.LENGTH | 0.08 | 0.08 | 0.16 |  | 
| danRer5.vegaPseudoGene.LENGTH | 0.00 | 0.02 | 0.01 |  | 
| danRer6.ensGene.LENGTH | 0.23 | 0.09 | 0.33 |  | 
| danRer6.geneSymbol.LENGTH | 0.08 | 0.08 | 0.16 |  | 
| danRer6.refGene.LENGTH | 0.12 | 0.05 | 0.18 |  | 
| danRer6.xenoRefGene.LENGTH | 1.05 | 0.09 | 1.14 |  | 
| dm1.geneSymbol.LENGTH | 0.16 | 0.06 | 0.22 |  | 
| dm1.genscan.LENGTH | 0.07 | 0.03 | 0.11 |  | 
| dm1.refGene.LENGTH | 0.18 | 0.10 | 0.26 |  | 
| dm2.geneSymbol.LENGTH | 0.15 | 0.06 | 0.22 |  | 
| dm2.geneid.LENGTH | 0.08 | 0.06 | 0.14 |  | 
| dm2.genscan.LENGTH | 0.14 | 0.03 | 0.17 |  | 
| dm2.nscanGene.LENGTH | 0.10 | 0.00 | 0.09 |  | 
| dm2.refGene.LENGTH | 0.15 | 0.08 | 0.24 |  | 
| dm3.geneSymbol.LENGTH | 0.38 | 0.00 | 0.37 |  | 
| dm3.nscanPasaGene.LENGTH | 0.07 | 0.09 | 0.17 |  | 
| dm3.refGene.LENGTH | 0.11 | 0.00 | 0.11 |  | 
| downloadLengthFromUCSC | 40.50 | 0.67 | 80.91 |  | 
| dp2.genscan.LENGTH | 0.08 | 0.05 | 0.13 |  | 
| dp2.xenoRefGene.LENGTH | 0.38 | 0.07 | 0.46 |  | 
| dp3.geneid.LENGTH | 0.09 | 0.07 | 0.15 |  | 
| dp3.genscan.LENGTH | 0.05 | 0.08 | 0.12 |  | 
| dp3.xenoRefGene.LENGTH | 0.15 | 0.15 | 0.31 |  | 
| droAna1.geneid.LENGTH | 0.13 | 0.03 | 0.16 |  | 
| droAna1.genscan.LENGTH | 0.06 | 0.03 | 0.09 |  | 
| droAna1.xenoRefGene.LENGTH | 0.33 | 0.12 | 0.45 |  | 
| droAna2.genscan.LENGTH | 0.11 | 0.00 | 0.11 |  | 
| droAna2.xenoRefGene.LENGTH | 0.47 | 0.15 | 0.61 |  | 
| droEre1.genscan.LENGTH | 0.04 | 0.07 | 0.13 |  | 
| droEre1.xenoRefGene.LENGTH | 0.44 | 0.14 | 0.58 |  | 
| droGri1.genscan.LENGTH | 0.11 | 0.07 | 0.17 |  | 
| droGri1.xenoRefGene.LENGTH | 0.47 | 0.03 | 0.50 |  | 
| droMoj1.geneid.LENGTH | 0.41 | 0.08 | 0.48 |  | 
| droMoj1.genscan.LENGTH | 0.11 | 0.00 | 0.11 |  | 
| droMoj1.xenoRefGene.LENGTH | 0.37 | 0.12 | 0.50 |  | 
| droMoj2.genscan.LENGTH | 0.09 | 0.06 | 0.16 |  | 
| droMoj2.xenoRefGene.LENGTH | 0.65 | 0.11 | 0.75 |  | 
| droPer1.genscan.LENGTH | 0.09 | 0.09 | 0.19 |  | 
| droPer1.xenoRefGene.LENGTH | 0.47 | 0.13 | 0.59 |  | 
| droSec1.genscan.LENGTH | 0.06 | 0.06 | 0.12 |  | 
| droSec1.xenoRefGene.LENGTH | 0.48 | 0.03 | 0.52 |  | 
| droSim1.geneid.LENGTH | 0.07 | 0.08 | 0.14 |  | 
| droSim1.genscan.LENGTH | 0.03 | 0.08 | 0.11 |  | 
| droSim1.xenoRefGene.LENGTH | 0.43 | 0.03 | 0.46 |  | 
| droVir1.geneid.LENGTH | 0.20 | 0.03 | 0.23 |  | 
| droVir1.genscan.LENGTH | 0.11 | 0.08 | 0.19 |  | 
| droVir1.xenoRefGene.LENGTH | 0.42 | 0.08 | 0.50 |  | 
| droVir2.genscan.LENGTH | 0.09 | 0.06 | 0.16 |  | 
| droVir2.xenoRefGene.LENGTH | 0.52 | 0.11 | 0.62 |  | 
| droYak1.geneid.LENGTH | 0.06 | 0.11 | 0.17 |  | 
| droYak1.genscan.LENGTH | 0.08 | 0.06 | 0.14 |  | 
| droYak1.xenoRefGene.LENGTH | 0.39 | 0.03 | 0.43 |  | 
| droYak2.genscan.LENGTH | 0.31 | 0.05 | 0.36 |  | 
| droYak2.xenoRefGene.LENGTH | 0.46 | 0.14 | 0.63 |  | 
| equCab1.geneSymbol.LENGTH | 0.00 | 0.01 | 0.02 |  | 
| equCab1.geneid.LENGTH | 0.17 | 0.05 | 0.22 |  | 
| equCab1.nscanGene.LENGTH | 0.08 | 0.07 | 0.15 |  | 
| equCab1.refGene.LENGTH | 0.03 | 0.00 | 0.03 |  | 
| equCab1.sgpGene.LENGTH | 0.13 | 0.04 | 0.16 |  | 
| equCab2.ensGene.LENGTH | 0.19 | 0.05 | 0.24 |  | 
| equCab2.geneSymbol.LENGTH | 0.01 | 0.01 | 0.03 |  | 
| equCab2.nscanGene.LENGTH | 0.13 | 0.07 | 0.19 |  | 
| equCab2.refGene.LENGTH | 0.00 | 0.01 | 0.01 |  | 
| equCab2.xenoRefGene.LENGTH | 0.85 | 0.08 | 0.94 |  | 
| felCat3.ensGene.LENGTH | 0.17 | 0.01 | 0.18 |  | 
| felCat3.geneSymbol.LENGTH | 0.00 | 0.02 | 0.01 |  | 
| felCat3.geneid.LENGTH | 0.89 | 0.06 | 0.95 |  | 
| felCat3.genscan.LENGTH | 0.49 | 0.09 | 0.58 |  | 
| felCat3.nscanGene.LENGTH | 0.17 | 0.07 | 0.25 |  | 
| felCat3.refGene.LENGTH | 0.00 | 0.01 | 0.01 |  | 
| felCat3.sgpGene.LENGTH | 0.25 | 0.02 | 0.27 |  | 
| felCat3.xenoRefGene.LENGTH | 1.84 | 0.06 | 1.91 |  | 
| fr1.ensGene.LENGTH | 0.13 | 0.09 | 0.22 |  | 
| fr1.genscan.LENGTH | 0.44 | 0.05 | 0.50 |  | 
| fr2.ensGene.LENGTH | 0.26 | 0.06 | 0.33 |  | 
| galGal2.ensGene.LENGTH | 0.13 | 0.00 | 0.13 |  | 
| galGal2.geneSymbol.LENGTH | 0.04 | 0.02 | 0.06 |  | 
| galGal2.geneid.LENGTH | 0.08 | 0.11 | 0.18 |  | 
| galGal2.genscan.LENGTH | 0.44 | 0.09 | 0.54 |  | 
| galGal2.refGene.LENGTH | 0.05 | 0.02 | 0.06 |  | 
| galGal2.sgpGene.LENGTH | 0.12 | 0.04 | 0.18 |  | 
| galGal3.ensGene.LENGTH | 0.69 | 0.05 | 0.75 |  | 
| galGal3.geneSymbol.LENGTH | 0.05 | 0.02 | 0.06 |  | 
| galGal3.genscan.LENGTH | 0.12 | 0.09 | 0.22 |  | 
| galGal3.nscanGene.LENGTH | 0.11 | 0.00 | 0.11 |  | 
| galGal3.refGene.LENGTH | 0.03 | 0.02 | 0.04 |  | 
| galGal3.xenoRefGene.LENGTH | 0.69 | 0.03 | 0.72 |  | 
| gasAcu1.ensGene.LENGTH | 0.17 | 0.04 | 0.22 |  | 
| gasAcu1.nscanGene.LENGTH | 0.17 | 0.07 | 0.24 |  | 
| hg16.acembly.LENGTH | 0.60 | 0.11 | 0.71 |  | 
| hg16.ensGene.LENGTH | 0.14 | 0.01 | 0.15 |  | 
| hg16.exoniphy.LENGTH | 0.42 | 0.06 | 0.48 |  | 
| hg16.geneSymbol.LENGTH | 0.16 | 0.05 | 0.21 |  | 
| hg16.geneid.LENGTH | 0.06 | 0.16 | 0.22 |  | 
| hg16.genscan.LENGTH | 0.12 | 0.04 | 0.17 |  | 
| hg16.knownGene.LENGTH | 0.17 | 0.08 | 0.25 |  | 
| hg16.refGene.LENGTH | 0.14 | 0.05 | 0.18 |  | 
| hg16.sgpGene.LENGTH | 0.11 | 0.05 | 0.16 |  | 
| hg17.acembly.LENGTH | 0.67 | 0.05 | 0.72 |  | 
| hg17.acescan.LENGTH | 0.02 | 0.01 | 0.03 |  | 
| hg17.ccdsGene.LENGTH | 0.08 | 0.04 | 0.11 |  | 
| hg17.ensGene.LENGTH | 0.15 | 0.09 | 0.25 |  | 
| hg17.exoniphy.LENGTH | 0.66 | 0.05 | 0.70 |  | 
| hg17.geneSymbol.LENGTH | 0.17 | 0.01 | 0.19 |  | 
| hg17.geneid.LENGTH | 0.13 | 0.05 | 0.19 |  | 
| hg17.genscan.LENGTH | 0.07 | 0.08 | 0.16 |  | 
| hg17.knownGene.LENGTH | 0.19 | 0.05 | 0.23 |  | 
| hg17.refGene.LENGTH | 0.13 | 0.06 | 0.18 |  | 
| hg17.sgpGene.LENGTH | 0.11 | 0.08 | 0.19 |  | 
| hg17.vegaGene.LENGTH | 0.06 | 0.07 | 0.14 |  | 
| hg17.vegaPseudoGene.LENGTH | 0.03 | 0.03 | 0.06 |  | 
| hg17.xenoRefGene.LENGTH | 0.39 | 0.02 | 0.41 |  | 
| hg18.acembly.LENGTH | 1.12 | 0.05 | 1.19 |  | 
| hg18.acescan.LENGTH | 0.04 | 0.00 | 0.04 |  | 
| hg18.ccdsGene.LENGTH | 0.06 | 0.06 | 0.13 |  | 
| hg18.ensGene.LENGTH | 0.30 | 0.07 | 0.38 |  | 
| hg18.exoniphy.LENGTH | 0.69 | 0.13 | 0.81 |  | 
| hg18.geneSymbol.LENGTH | 0.19 | 0.03 | 0.22 |  | 
| hg18.geneid.LENGTH | 0.12 | 0.06 | 0.19 |  | 
| hg18.genscan.LENGTH | 0.13 | 0.05 | 0.17 |  | 
| hg18.knownGene.LENGTH | 0.23 | 0.08 | 0.33 |  | 
| hg18.knownGeneOld3.LENGTH | 0.19 | 0.04 | 0.23 |  | 
| hg18.refGene.LENGTH | 0.15 | 0.05 | 0.20 |  | 
| hg18.sgpGene.LENGTH | 0.13 | 0.08 | 0.21 |  | 
| hg18.sibGene.LENGTH | 0.76 | 0.17 | 0.93 |  | 
| hg18.xenoRefGene.LENGTH | 0.60 | 0.09 | 0.69 |  | 
| hg19.ccdsGene.LENGTH | 0.06 | 0.10 | 0.15 |  | 
| hg19.ensGene.LENGTH | 0.50 | 0.05 | 0.56 |  | 
| hg19.exoniphy.LENGTH | 1.27 | 0.12 | 1.39 |  | 
| hg19.geneSymbol.LENGTH | 0.12 | 0.09 | 0.22 |  | 
| hg19.knownGene.LENGTH | 0.30 | 0.11 | 0.41 |  | 
| hg19.nscanGene.LENGTH | 0.23 | 0.03 | 0.27 |  | 
| hg19.refGene.LENGTH | 0.14 | 0.07 | 0.20 |  | 
| hg19.xenoRefGene.LENGTH | 0.58 | 0.01 | 0.59 |  | 
| loxAfr3.xenoRefGene.LENGTH | 1.16 | 0.03 | 1.19 |  | 
| mm7.ensGene.LENGTH | 0.14 | 0.02 | 0.16 |  | 
| mm7.geneSymbol.LENGTH | 0.14 | 0.02 | 0.16 |  | 
| mm7.geneid.LENGTH | 0.11 | 0.07 | 0.21 |  | 
| mm7.genscan.LENGTH | 0.08 | 0.08 | 0.15 |  | 
| mm7.knownGene.LENGTH | 0.14 | 0.03 | 0.17 |  | 
| mm7.refGene.LENGTH | 0.12 | 0.02 | 0.14 |  | 
| mm7.sgpGene.LENGTH | 0.13 | 0.08 | 0.20 |  | 
| mm7.xenoRefGene.LENGTH | 0.51 | 0.04 | 0.57 |  | 
| mm8.ccdsGene.LENGTH | 0.03 | 0.07 | 0.11 |  | 
| mm8.ensGene.LENGTH | 0.11 | 0.07 | 0.19 |  | 
| mm8.geneSymbol.LENGTH | 0.11 | 0.04 | 0.14 |  | 
| mm8.geneid.LENGTH | 0.16 | 0.06 | 0.21 |  | 
| mm8.genscan.LENGTH | 0.14 | 0.01 | 0.16 |  | 
| mm8.knownGene.LENGTH | 0.16 | 0.02 | 0.17 |  | 
| mm8.nscanGene.LENGTH | 0.11 | 0.01 | 0.13 |  | 
| mm8.refGene.LENGTH | 0.10 | 0.00 | 0.12 |  | 
| mm8.sgpGene.LENGTH | 0.15 | 0.07 | 0.20 |  | 
| mm8.sibGene.LENGTH | 0.45 | 0.03 | 0.48 |  | 
| mm8.xenoRefGene.LENGTH | 0.48 | 0.19 | 0.67 |  | 
| mm9.acembly.LENGTH | 0.53 | 0.04 | 0.58 |  | 
| mm9.ccdsGene.LENGTH | 0.08 | 0.05 | 0.12 |  | 
| mm9.ensGene.LENGTH | 0.22 | 0.11 | 0.33 |  | 
| mm9.exoniphy.LENGTH | 0.67 | 0.08 | 0.75 |  | 
| mm9.geneSymbol.LENGTH | 0.12 | 0.01 | 0.14 |  | 
| mm9.geneid.LENGTH | 0.19 | 0.03 | 0.22 |  | 
| mm9.genscan.LENGTH | 0.14 | 0.02 | 0.16 |  | 
| mm9.knownGene.LENGTH | 0.53 | 0.07 | 0.61 |  | 
| mm9.nscanGene.LENGTH | 0.10 | 0.03 | 0.13 |  | 
| mm9.refGene.LENGTH | 0.12 | 0.02 | 0.14 |  | 
| mm9.sgpGene.LENGTH | 0.17 | 0.05 | 0.22 |  | 
| mm9.xenoRefGene.LENGTH | 0.55 | 0.11 | 0.66 |  | 
| monDom1.genscan.LENGTH | 0.14 | 0.04 | 0.18 |  | 
| monDom4.ensGene.LENGTH | 0.11 | 0.07 | 0.18 |  | 
| monDom4.geneSymbol.LENGTH | 0.01 | 0.00 | 0.02 |  | 
| monDom4.genscan.LENGTH | 0.14 | 0.09 | 0.23 |  | 
| monDom4.nscanGene.LENGTH | 0.14 | 0.05 | 0.19 |  | 
| monDom4.refGene.LENGTH | 0.00 | 0.01 | 0.02 |  | 
| monDom4.xenoRefGene.LENGTH | 0.55 | 0.06 | 0.61 |  | 
| monDom5.ensGene.LENGTH | 0.15 | 0.00 | 0.17 |  | 
| monDom5.geneSymbol.LENGTH | 0.01 | 0.00 | 0.02 |  | 
| monDom5.genscan.LENGTH | 0.11 | 0.00 | 0.11 |  | 
| monDom5.nscanGene.LENGTH | 0.17 | 0.05 | 0.22 |  | 
| monDom5.refGene.LENGTH | 0.00 | 0.02 | 0.02 |  | 
| monDom5.xenoRefGene.LENGTH | 0.85 | 0.11 | 0.97 |  | 
| ornAna1.ensGene.LENGTH | 0.15 | 0.06 | 0.22 |  | 
| ornAna1.geneSymbol.LENGTH | 0.02 | 0.00 | 0.02 |  | 
| ornAna1.refGene.LENGTH | 0.00 | 0.01 | 0.01 |  | 
| ornAna1.xenoRefGene.LENGTH | 0.89 | 0.05 | 0.94 |  | 
| oryLat2.ensGene.LENGTH | 0.16 | 0.02 | 0.17 |  | 
| oryLat2.geneSymbol.LENGTH | 0.02 | 0.00 | 0.01 |  | 
| oryLat2.refGene.LENGTH | 0.00 | 0.01 | 0.01 |  | 
| oryLat2.xenoRefGene.LENGTH | 0.73 | 0.05 | 0.79 |  | 
| panTro1.ensGene.LENGTH | 0.19 | 0.03 | 0.22 |  | 
| panTro1.geneid.LENGTH | 0.15 | 0.06 | 0.22 |  | 
| panTro1.genscan.LENGTH | 0.11 | 0.03 | 0.14 |  | 
| panTro1.xenoRefGene.LENGTH | 0.19 | 0.07 | 0.25 |  | 
| panTro2.ensGene.LENGTH | 0.19 | 0.03 | 0.21 |  | 
| panTro2.geneSymbol.LENGTH | 0.79 | 0.03 | 0.83 |  | 
| panTro2.genscan.LENGTH | 0.11 | 0.03 | 0.14 |  | 
| panTro2.nscanGene.LENGTH | 0.08 | 0.05 | 0.12 |  | 
| panTro2.refGene.LENGTH | 0.19 | 0.03 | 0.22 |  | 
| panTro2.xenoRefGene.LENGTH | 0.72 | 0.03 | 0.76 |  | 
| petMar1.xenoRefGene.LENGTH | 0.39 | 0.09 | 0.48 |  | 
| ponAbe2.ensGene.LENGTH | 0.15 | 0.07 | 0.20 |  | 
| ponAbe2.geneSymbol.LENGTH | 0.04 | 0.00 | 0.05 |  | 
| ponAbe2.genscan.LENGTH | 0.10 | 0.04 | 0.14 |  | 
| ponAbe2.nscanGene.LENGTH | 0.11 | 0.00 | 0.11 |  | 
| ponAbe2.refGene.LENGTH | 0.04 | 0.00 | 0.05 |  | 
| ponAbe2.xenoRefGene.LENGTH | 0.92 | 0.02 | 0.94 |  | 
| priPac1.xenoRefGene.LENGTH | 0.57 | 0.01 | 0.72 |  | 
| rheMac2.ensGene.LENGTH | 0.21 | 0.04 | 0.25 |  | 
| rheMac2.geneSymbol.LENGTH | 0.01 | 0.00 | 0.01 |  | 
| rheMac2.geneid.LENGTH | 0.14 | 0.03 | 0.17 |  | 
| rheMac2.nscanGene.LENGTH | 0.10 | 0.03 | 0.13 |  | 
| rheMac2.refGene.LENGTH | 0.01 | 0.00 | 0.02 |  | 
| rheMac2.sgpGene.LENGTH | 0.16 | 0.03 | 0.19 |  | 
| rheMac2.xenoRefGene.LENGTH | 0.73 | 0.06 | 0.81 |  | 
| rn3.ensGene.LENGTH | 0.17 | 0.05 | 0.22 |  | 
| rn3.geneSymbol.LENGTH | 0.10 | 0.08 | 0.17 |  | 
| rn3.geneid.LENGTH | 0.08 | 0.04 | 0.13 |  | 
| rn3.genscan.LENGTH | 0.10 | 0.07 | 0.17 |  | 
| rn3.knownGene.LENGTH | 0.04 | 0.04 | 0.08 |  | 
| rn3.nscanGene.LENGTH | 0.09 | 0.00 | 0.09 |  | 
| rn3.refGene.LENGTH | 0.08 | 0.10 | 0.17 |  | 
| rn3.sgpGene.LENGTH | 0.12 | 0.03 | 0.16 |  | 
| rn3.xenoRefGene.LENGTH | 0.83 | 0.06 | 0.89 |  | 
| rn4.ensGene.LENGTH | 0.19 | 0.03 | 0.22 |  | 
| rn4.geneSymbol.LENGTH | 0.11 | 0.06 | 0.18 |  | 
| rn4.geneid.LENGTH | 0.17 | 0.07 | 0.23 |  | 
| rn4.genscan.LENGTH | 0.11 | 0.04 | 0.16 |  | 
| rn4.knownGene.LENGTH | 0.06 | 0.02 | 0.08 |  | 
| rn4.nscanGene.LENGTH | 0.10 | 0.12 | 0.22 |  | 
| rn4.refGene.LENGTH | 0.06 | 0.10 | 0.16 |  | 
| rn4.sgpGene.LENGTH | 0.20 | 0.01 | 0.21 |  | 
| rn4.xenoRefGene.LENGTH | 0.52 | 0.13 | 0.66 |  | 
| sacCer1.ensGene.LENGTH | 0.03 | 0.03 | 0.06 |  | 
| sacCer2.ensGene.LENGTH | 0.03 | 0.05 | 0.08 |  | 
| strPur1.geneSymbol.LENGTH | 0.02 | 0.00 | 0.01 |  | 
| strPur1.genscan.LENGTH | 0.16 | 0.08 | 0.23 |  | 
| strPur1.refGene.LENGTH | 0.01 | 0.00 | 0.02 |  | 
| strPur1.xenoRefGene.LENGTH | 0.80 | 0.04 | 0.84 |  | 
| strPur2.geneSymbol.LENGTH | 0.00 | 0.03 | 0.03 |  | 
| strPur2.genscan.LENGTH | 0.14 | 0.10 | 0.23 |  | 
| strPur2.refGene.LENGTH | 0.00 | 0.01 | 0.01 |  | 
| strPur2.xenoRefGene.LENGTH | 0.95 | 0.05 | 1.02 |  | 
| supportedGeneIDs | 0.00 | 0.02 | 0.01 |  | 
| supportedGenomes | 0.06 | 0.00 | 0.22 |  | 
| taeGut1.ensGene.LENGTH | 0.08 | 0.03 | 0.11 |  | 
| taeGut1.geneSymbol.LENGTH | 0 | 0 | 0 |  | 
| taeGut1.genscan.LENGTH | 0.08 | 0.07 | 0.16 |  | 
| taeGut1.nscanGene.LENGTH | 0.05 | 0.07 | 0.11 |  | 
| taeGut1.refGene.LENGTH | 0.00 | 0.01 | 0.01 |  | 
| taeGut1.xenoRefGene.LENGTH | 0.62 | 0.05 | 0.67 |  | 
| tetNig1.ensGene.LENGTH | 0.43 | 0.03 | 0.45 |  | 
| tetNig1.geneid.LENGTH | 0.12 | 0.03 | 0.16 |  | 
| tetNig1.genscan.LENGTH | 0.11 | 0.10 | 0.20 |  | 
| tetNig1.nscanGene.LENGTH | 0.14 | 0.01 | 0.15 |  | 
| tetNig2.ensGene.LENGTH | 0.11 | 0.05 | 0.16 |  | 
| unfactor | 0 | 0 | 0 |  | 
| xenTro1.genscan.LENGTH | 0.15 | 0.01 | 0.17 |  | 
| xenTro2.ensGene.LENGTH | 0.11 | 0.10 | 0.21 |  | 
| xenTro2.geneSymbol.LENGTH | 0.06 | 0.04 | 0.11 |  | 
| xenTro2.genscan.LENGTH | 0.16 | 0.08 | 0.23 |  | 
| xenTro2.refGene.LENGTH | 0.06 | 0.05 | 0.11 |  |