| Back to the "Multiple platform build/check report" |
| Package 23/83 | Hostname | OS / Arch | BUILD | CHECK | BUILD BIN | ||||
| faahKO 1.2.5 Colin A. Smith
| wilson1 | Linux (openSUSE 11.1) / x86_64 | OK | WARNINGS | |||||
| liverpool | Windows Server 2003 R2 (32-bit) / x64 | OK | WARNINGS | [ OK ] | |||||
| pelham | Mac OS X Leopard (10.5.8) / i386 | OK | WARNINGS | OK |
| Package: faahKO |
| Version: 1.2.5 |
| Command: E:\biocbld\bbs-2.6-bioc\R\bin\R.exe CMD INSTALL --build --library=faahKO.buildbin-libdir faahKO_1.2.5.tar.gz |
| StartedAt: 2010-09-24 05:18:53 -0700 (Fri, 24 Sep 2010) |
| EndedAt: 2010-09-24 05:19:46 -0700 (Fri, 24 Sep 2010) |
| EllapsedTime: 52.8 seconds |
| RetCode: 0 |
| Status: OK |
| PackageFile: faahKO_1.2.5.zip |
| PackageFileSize: 15.81 MiB |
* installing *source* package 'faahKO' ... ** R ** data ** inst ** preparing package for lazy loading ** help *** installing help indices ** building package indices ... ** testing if installed package can be loaded * MD5 sums packaged installation of 'faahKO' as faahKO_1.2.5.zip * DONE (faahKO)