| Back to the "Multiple platform build/check report" | 
| Package 69/83 | Hostname | OS / Arch | BUILD | CHECK | BUILD BIN | ||||
| ProData 1.0.3 Xiaochun Li 
 | wilson1 | Linux (openSUSE 11.1) / x86_64 | OK | OK | |||||
| liverpool | Windows Server 2003 R2 (32-bit) / x64 | OK | OK | [ OK ] | |||||
| pelham | Mac OS X Leopard (10.5.8) / i386 | OK | OK | OK | 
| Package: ProData | 
| Version: 1.0.3 | 
| Command: E:\biocbld\bbs-2.6-bioc\R\bin\R.exe CMD INSTALL --build --library=ProData.buildbin-libdir ProData_1.0.3.tar.gz | 
| StartedAt: 2010-09-24 05:41:13 -0700 (Fri, 24 Sep 2010) | 
| EndedAt: 2010-09-24 05:41:26 -0700 (Fri, 24 Sep 2010) | 
| EllapsedTime: 12.5 seconds | 
| RetCode: 0 | 
| Status: OK | 
| PackageFile: ProData_1.0.3.zip | 
| PackageFileSize: 19.06 MiB | 
* installing *source* package 'ProData' ... ** data ** inst ** help *** installing help indices ** building package indices ... ** testing if installed package can be loaded * MD5 sums packaged installation of 'ProData' as ProData_1.0.3.zip * DONE (ProData)