| Back to the "Multiple platform build/check report" |
| Package 13/83 | Hostname | OS / Arch | BUILD | CHECK | BUILD BIN | ||||
| CLL 1.2.8 Robert Gentleman
| wilson1 | Linux (openSUSE 11.1) / x86_64 | OK | OK | |||||
| liverpool | Windows Server 2003 R2 (32-bit) / x64 | [ OK ] | OK | OK | |||||
| pelham | Mac OS X Leopard (10.5.8) / i386 | OK | OK | OK |
| Package: CLL |
| Version: 1.2.8 |
| Command: chmod a+r CLL -R && E:\biocbld\bbs-2.6-bioc\R\bin\R.exe CMD build CLL |
| StartedAt: 2010-09-24 02:50:01 -0700 (Fri, 24 Sep 2010) |
| EndedAt: 2010-09-24 02:50:18 -0700 (Fri, 24 Sep 2010) |
| EllapsedTime: 16.7 seconds |
| RetCode: 0 |
| Status: OK |
| PackageFile: CLL_1.2.8.tar.gz |
| PackageFileSize: 15.89 MiB |
* checking for file 'CLL/DESCRIPTION' ... OK * preparing 'CLL': * checking DESCRIPTION meta-information ... OK * removing junk files * checking for LF line-endings in source and make files * checking for empty or unneeded directories * building 'CLL_1.2.8.tar.gz'