* checking for file 'vsn/DESCRIPTION' ... OK
* preparing 'vsn':
* checking DESCRIPTION meta-information ... OK
* cleaning src
* installing the package to re-build vignettes
* installing *source* package 'vsn' ...
** libs
gcc -std=gnu99 -I/home/biocbuild/bbs-2.6-bioc/R/include -I/usr/local/include -fpic -g -O2 -c init.c -o init.o
gcc -std=gnu99 -I/home/biocbuild/bbs-2.6-bioc/R/include -I/usr/local/include -fpic -g -O2 -c vsn.c -o vsn.o
gcc -std=gnu99 -I/home/biocbuild/bbs-2.6-bioc/R/include -I/usr/local/include -fpic -g -O2 -c vsn2.c -o vsn2.o
gcc -std=gnu99 -shared -L/usr/local/lib64 -o vsn.so init.o vsn.o vsn2.o -L/home/biocbuild/bbs-2.6-bioc/R/lib -lR
installing to /tmp/Rinst731782068/vsn/libs
** R
** data
** inst
** preparing package for lazy loading
Welcome to Bioconductor
Vignettes contain introductory material. To view, type
'openVignette()'. To cite Bioconductor, see
'citation("Biobase")' and for packages 'citation(pkgname)'.
Creating a new generic function for "logLik" in "vsn"
Creating a new generic function for "coef" in "vsn"
Creating a new generic function for "coefficients" in "vsn"
** help
*** installing help indices
** building package indices ...
** testing if installed package can be loaded
* DONE (vsn)
* creating vignettes ... OK
* cleaning src
* removing junk files
* checking for LF line-endings in source and make files
* checking for empty or unneeded directories
* building 'vsn_3.16.0.tar.gz'