tigre 1.2.1 Antti Honkela
 | Snapshot Date: 2010-10-04 11:22:20 -0700 (Mon, 04 Oct 2010) |  | URL: https://hedgehog.fhcrc.org/bioconductor/branches/RELEASE_2_6/madman/Rpacks/tigre |  | Last Changed Rev: 49492 / Revision: 49923 |  | Last Changed Date: 2010-09-20 05:17:57 -0700 (Mon, 20 Sep 2010) |  
  | wilson1  | Linux (openSUSE 11.1) / x86_64  |  OK  |  OK  |  | 
| liverpool  | Windows Server 2003 R2 (32-bit) / x64  |  OK  |  OK  |  OK  | 
| gewurz  | Windows Server 2008 R2 Enterprise (64-bit) / x64  | [ OK ] |  OK  |  OK  | 
| pelham  | Mac OS X Leopard (10.5.8) / i386  |  OK  |  OK  |  OK  | 
* checking for file 'tigre/DESCRIPTION' ... OK
* preparing 'tigre':
* checking DESCRIPTION meta-information ... OK
* cleaning src
* installing the package to re-build vignettes
* installing *source* package 'tigre' ...
** libs
  making DLL ...
x86_64-w64-mingw32-gcc -I"D:/biocbld/bbs-2.6-bioc/R/include"         -O2 -Wall  -std=gnu99 -c miscCFunctions.c -o miscCFunctions.o
x86_64-w64-mingw32-gcc -shared -s -static-libgcc -o tigre.dll tmp.def miscCFunctions.o -LD:/biocbld/bbs-2.6-bioc/R/bin -lR
installing to D:/biocbld/bbs-2.6-bioc/tmpdir/Rinst322858404/tigre/libs/x64
  ... done
** R
** data
** inst
** preparing package for lazy loading
Welcome to Bioconductor
  Vignettes contain introductory material. To view, type
  'openVignette()'. To cite Bioconductor, see
  'citation("Biobase")' and for packages 'citation(pkgname)'.
Loading required package: gplots
Loading required package: gtools
Loading required package: gdata
gdata: read.xls support for 'XLS' (Excel 97-2004) files ENABLED.
gdata: Unable to load perl libaries needed by read.xls()
gdata: to support 'XLSX' (Excel 2007+) files.
gdata: Run the function 'installXLSXsupport()'
gdata: to automatically download and install the perl
gdata: libaries needed to support Excel XLS and XLSX formats.
Attaching package: 'gdata'
The following object(s) are masked from 'package:Biobase':
    combine
The following object(s) are masked from 'package:utils':
    object.size
Loading required package: caTools
Loading required package: bitops
Loading required package: grid
Attaching package: 'gplots'
The following object(s) are masked from 'package:stats':
    lowess
** help
*** installing help indices
** building package indices ...
** testing if installed package can be loaded
* DONE (tigre)
* creating vignettes ... OK
* cleaning src
* removing junk files
* checking for LF line-endings in source and make files
* checking for empty or unneeded directories
* building 'tigre_1.2.1.tar.gz'