* installing *source* package 'rama' ...
Using auto-selected zip option '--use-zip-data'
** libs
making DLL ...
x86_64-w64-mingw32-gcc -I"D:/biocbld/bbs-2.6-bioc/R/include" -O2 -Wall -std=gnu99 -c estimation_slice.c -o estimation_slice.o
estimation_slice.c: In function 'mcmc_shift':
estimation_slice.c:122: warning: unused variable 'SSeps_sd_new'
estimation_slice.c:121: warning: unused variable 'SSeps_sd'
estimation_slice.c:117: warning: unused variable 'pi'
estimation_slice.c:116: warning: unused variable 'SS12'
estimation_slice.c:116: warning: unused variable 'SSR2'
estimation_slice.c:116: warning: unused variable 'SSR1'
estimation_slice.c:115: warning: unused variable 'dens_epsilon_new'
estimation_slice.c:115: warning: unused variable 'dens_epsilon'
estimation_slice.c:114: warning: unused variable 'l_epsilon_new'
estimation_slice.c:114: warning: unused variable 'l_epsilon'
estimation_slice.c:113: warning: unused variable 'lambda_eps2_new'
estimation_slice.c:113: warning: unused variable 'lambda_eps1_new'
estimation_slice.c: In function 'slice_sampling_lambda_eps':
estimation_slice.c:484: warning: suggest parentheses around comparison in operand of '&'
estimation_slice.c:493: warning: suggest parentheses around comparison in operand of '&'
x86_64-w64-mingw32-gcc -I"D:/biocbld/bbs-2.6-bioc/R/include" -O2 -Wall -std=gnu99 -c ex_estimation_slice.c -o ex_estimation_slice.o
ex_estimation_slice.c: In function 'mcmc':
ex_estimation_slice.c:144: warning: unused variable 'old_a'
ex_estimation_slice.c:143: warning: unused variable 'old_b'
ex_estimation_slice.c:138: warning: unused variable 'sum_res2'
ex_estimation_slice.c:137: warning: unused variable 'sum_res1'
ex_estimation_slice.c:119: warning: unused variable 'dens_t_new'
ex_estimation_slice.c:119: warning: unused variable 'dens_t'
ex_estimation_slice.c:112: warning: unused variable 'pi'
x86_64-w64-mingw32-gcc -I"D:/biocbld/bbs-2.6-bioc/R/include" -O2 -Wall -std=gnu99 -c mean.sd.c -o mean.sd.o
x86_64-w64-mingw32-gcc -I"D:/biocbld/bbs-2.6-bioc/R/include" -O2 -Wall -std=gnu99 -c reorder.c -o reorder.o
x86_64-w64-mingw32-gcc -I"D:/biocbld/bbs-2.6-bioc/R/include" -O2 -Wall -std=gnu99 -c util.c -o util.o
util.c: In function 'product_mat_vec':
util.c:574: warning: unused variable 'k'
util.c: In function 'slice_sampling_a':
util.c:629: warning: suggest parentheses around comparison in operand of '|'
util.c:629: warning: suggest parentheses around comparison in operand of '&'
util.c:636: warning: suggest parentheses around comparison in operand of '&'
util.c:643: warning: suggest parentheses around comparison in operand of '&'
util.c:613: warning: unused variable 'v'
util.c: In function 'slice_sampling_b':
util.c:703: warning: suggest parentheses around comparison in operand of '|'
util.c:703: warning: suggest parentheses around comparison in operand of '&'
util.c:710: warning: suggest parentheses around comparison in operand of '&'
util.c:717: warning: suggest parentheses around comparison in operand of '&'
util.c:686: warning: unused variable 'v'
util.c: In function 'slice_sampling_b2':
util.c:767: warning: suggest parentheses around comparison in operand of '&'
util.c:775: warning: suggest parentheses around comparison in operand of '&'
util.c: In function 'slice_sampling_a2':
util.c:822: warning: suggest parentheses around comparison in operand of '&'
util.c:830: warning: suggest parentheses around comparison in operand of '&'
util.c: In function 'slice_sampling_rho':
util.c:876: warning: suggest parentheses around comparison in operand of '|'
util.c:876: warning: suggest parentheses around comparison in operand of '&'
util.c:883: warning: suggest parentheses around comparison in operand of '&'
util.c:890: warning: suggest parentheses around comparison in operand of '&'
util.c:860: warning: unused variable 'v'
util.c: In function 'slice_sampling_rho2':
util.c:935: warning: suggest parentheses around comparison in operand of '&'
util.c:944: warning: suggest parentheses around comparison in operand of '&'
util.c: In function 'slice_sampling_shift':
util.c:1019: warning: suggest parentheses around comparison in operand of '|'
util.c:1019: warning: suggest parentheses around comparison in operand of '&'
util.c:1026: warning: suggest parentheses around comparison in operand of '&'
util.c:1033: warning: suggest parentheses around comparison in operand of '&'
util.c:1000: warning: unused variable 'v'
util.c: In function 'slice_sampling_shift2':
util.c:1100: warning: suggest parentheses around comparison in operand of '&'
util.c:1108: warning: suggest parentheses around comparison in operand of '&'
util.c:1082: warning: unused variable 'v'
util.c: In function 'slice_sampling_p':
util.c:1248: warning: suggest parentheses around comparison in operand of '&'
util.c:1256: warning: suggest parentheses around comparison in operand of '&'
x86_64-w64-mingw32-gcc -shared -s -static-libgcc -o rama.dll tmp.def estimation_slice.o ex_estimation_slice.o mean.sd.o reorder.o util.o -LD:/biocbld/bbs-2.6-bioc/R/bin -lR
installing to D:/biocbld/bbs-2.6-bioc/meat/rama.buildbin-libdir/rama/libs/x64
... done
** R
** data
** inst
** preparing package for lazy loading
** help
*** installing help indices
** building package indices ...
** testing if installed package can be loaded
* MD5 sums
packaged installation of 'rama' as rama_1.22.1.zip
* DONE (rama)