* checking for file 'rMAT/DESCRIPTION' ... OK
* preparing 'rMAT':
* checking DESCRIPTION meta-information ... OK
* cleaning src
* running cleanup
* installing the package to re-build vignettes
* installing *source* package 'rMAT' ...
checking for pkg-config... /usr/bin/pkg-config
checking pkg-config is at least version 0.9.0... yes
checking for GSL... yes
configure: creating ./config.status
config.status: creating src/Makevars
** libs
g++ -I/home/biocbuild/bbs-2.6-bioc/R/include -I/usr/local/include -fpic -g -O2 -c BARFileData.cpp -o BARFileData.o
g++ -I/home/biocbuild/bbs-2.6-bioc/R/include -I/usr/local/include -fpic -g -O2 -c BARFileWriter.cpp -o BARFileWriter.o
g++ -I/home/biocbuild/bbs-2.6-bioc/R/include -I/usr/local/include -fpic -g -O2 -c BARReader.cpp -o BARReader.o
g++ -I/home/biocbuild/bbs-2.6-bioc/R/include -I/usr/local/include -fpic -g -O2 -c BARWriter.cpp -o BARWriter.o
g++ -I/home/biocbuild/bbs-2.6-bioc/R/include -I/usr/local/include -fpic -g -O2 -c BPMAPFileData.cpp -o BPMAPFileData.o
g++ -I/home/biocbuild/bbs-2.6-bioc/R/include -I/usr/local/include -fpic -g -O2 -c BPMAPfunctions.cpp -o BPMAPfunctions.o
gcc -std=gnu99 -I/home/biocbuild/bbs-2.6-bioc/R/include -I/usr/local/include -fpic -g -O2 -c DeclareAll.c -o DeclareAll.o
g++ -I/home/biocbuild/bbs-2.6-bioc/R/include -I/usr/local/include -fpic -g -O2 -c FileIO.cpp -o FileIO.o
g++ -I/home/biocbuild/bbs-2.6-bioc/R/include -I/usr/local/include -fpic -g -O2 -c FileWriter.cpp -o FileWriter.o
gcc -std=gnu99 -I/home/biocbuild/bbs-2.6-bioc/R/include -I/usr/local/include -fpic -g -O2 -c NormalizeProbes.c -o NormalizeProbes.o
g++ -shared -L/usr/local/lib64 -o rMAT.so BARFileData.o BARFileWriter.o BARReader.o BARWriter.o BPMAPFileData.o BPMAPfunctions.o DeclareAll.o FileIO.o FileWriter.o NormalizeProbes.o -lgsl -lgslcblas -lm -L/home/biocbuild/bbs-2.6-bioc/R/lib -lR
installing to /tmp/Rinst1575474852/rMAT/libs
** R
** inst
** preparing package for lazy loading
Attaching package: 'IRanges'
The following object(s) are masked from 'package:base':
Map, cbind, mapply, order, paste, pmax, pmax.int, pmin, pmin.int,
rbind, rep.int, table
Welcome to Bioconductor
Vignettes contain introductory material. To view, type
'openVignette()'. To cite Bioconductor, see
'citation("Biobase")' and for packages 'citation(pkgname)'.
Attaching package: 'Biobase'
The following object(s) are masked from 'package:IRanges':
updateObject
** help
*** installing help indices
** building package indices ...
** testing if installed package can be loaded
* DONE (rMAT)
* creating vignettes ... OK
* cleaning src
make: Nothing to be done for `clean'.
* running cleanup
* removing junk files
* checking for LF line-endings in source and make files
* checking for empty or unneeded directories
* building 'rMAT_2.4.2.tar.gz'