* checking for file 'oneChannelGUI/DESCRIPTION' ... OK
* preparing 'oneChannelGUI':
* checking DESCRIPTION meta-information ... OK
* installing the package to re-build vignettes
* installing *source* package 'oneChannelGUI' ...
** R
** data
** inst
** preparing package for lazy loading
Welcome to Bioconductor
Vignettes contain introductory material. To view, type
'openVignette()'. To cite Bioconductor, see
'citation("Biobase")' and for packages 'citation(pkgname)'.
Loading required package: tcltk
Loading Tcl/Tk interface ... done
Loading required package: affy
Loading required package: affyio
Loading required package: widgetTools
Loading required package: DynDoc
Loading required package: tools
Loading required package: Category
Loading required package: AnnotationDbi
Loading required package: graph
Loading required package: DBI
Attaching package: 'IRanges'
The following object(s) are masked from 'package:Biobase':
updateObject
The following object(s) are masked from 'package:base':
Map, cbind, mapply, order, paste, pmax, pmax.int, pmin, pmin.int,
rbind, rep.int, table
Loading required package: GenomeGraphs
Loading required package: biomaRt
Loading required package: grid
Warning in data(list = pkgname, package = pkgname, envir = where) :
data set 'HuExExonProbesetLocationHg19' not found
** help
*** installing help indices
** building package indices ...
** testing if installed package can be loaded
To begin, type oneChannelGUI()
* DONE (oneChannelGUI)
* creating vignettes ... OK
* removing junk files
* checking for LF line-endings in source and make files
* checking for empty or unneeded directories
* building 'oneChannelGUI_1.14.6.tar.gz'