Back to the "Multiple platform build/check report" | A B C D E F G H I J K L M [N] O P Q R S T U V W X Y Z |
Package 256/389 | Hostname | OS / Arch | BUILD | CHECK | BUILD BIN | ||||
nudge 1.14.0 N. Dean
| wilson1 | Linux (openSUSE 11.1) / x86_64 | OK | OK | |||||
liverpool | Windows Server 2003 R2 (32-bit) / x64 | OK | OK | OK | |||||
gewurz | Windows Server 2008 R2 Enterprise (64-bit) / x64 | [ OK ] | OK | OK | |||||
pelham | Mac OS X Leopard (10.5.8) / i386 | OK | OK | OK |
Package: nudge |
Version: 1.14.0 |
Command: chmod a+r nudge -R && D:\biocbld\bbs-2.6-bioc\R\bin\R.exe CMD build nudge |
StartedAt: 2010-10-04 13:55:35 -0700 (Mon, 04 Oct 2010) |
EndedAt: 2010-10-04 13:55:53 -0700 (Mon, 04 Oct 2010) |
EllapsedTime: 18.3 seconds |
RetCode: 0 |
Status: OK |
PackageFile: nudge_1.14.0.tar.gz |
PackageFileSize: 1.368 MiB |
* checking for file 'nudge/DESCRIPTION' ... OK * preparing 'nudge': * checking DESCRIPTION meta-information ... OK * installing the package to re-build vignettes * installing *source* package 'nudge' ... ** R ** data ** inst ** preparing package for lazy loading ** help *** installing help indices ** building package indices ... ** testing if installed package can be loaded * DONE (nudge) * creating vignettes ... OK * removing junk files * checking for LF line-endings in source and make files * checking for empty or unneeded directories * building 'nudge_1.14.0.tar.gz'