Back to the "Multiple platform build/check report" | A B C D E F G H I J K L [M] N O P Q R S T U V W X Y Z |
Package 252/389 | Hostname | OS / Arch | BUILD | CHECK | BUILD BIN | ||||
multtest 2.4.0 Katherine S. Pollard
| wilson1 | Linux (openSUSE 11.1) / x86_64 | [ OK ] | OK | |||||
liverpool | Windows Server 2003 R2 (32-bit) / x64 | OK | OK | OK | |||||
gewurz | Windows Server 2008 R2 Enterprise (64-bit) / x64 | OK | OK | OK | |||||
pelham | Mac OS X Leopard (10.5.8) / i386 | OK | OK | OK |
Package: multtest |
Version: 2.4.0 |
Command: /home/biocbuild/bbs-2.6-bioc/R/bin/R CMD build multtest |
StartedAt: 2010-10-04 12:55:56 -0700 (Mon, 04 Oct 2010) |
EndedAt: 2010-10-04 12:55:57 -0700 (Mon, 04 Oct 2010) |
EllapsedTime: 1.5 seconds |
RetCode: 0 |
Status: OK |
PackageFile: multtest_2.4.0.tar.gz |
PackageFileSize: 1.38 MiB |
* checking for file 'multtest/DESCRIPTION' ... OK * preparing 'multtest': * checking DESCRIPTION meta-information ... OK * cleaning src make: Nothing to be done for `clean'. * removing junk files * checking for LF line-endings in source and make files * checking for empty or unneeded directories * building 'multtest_2.4.0.tar.gz'