* installing *source* package 'metaArray' ...
Using auto-selected zip option '--use-zip-data'
** libs
making DLL ...
x86_64-w64-mingw32-gcc -I"D:/biocbld/bbs-2.6-bioc/R/include" -DUSEDOUBLE -DWINDOWS -O2 -Wall -std=gnu99 -c contr.c -o contr.o
x86_64-w64-mingw32-gcc -I"D:/biocbld/bbs-2.6-bioc/R/include" -DUSEDOUBLE -DWINDOWS -O2 -Wall -std=gnu99 -c dproc.c -o dproc.o
x86_64-w64-mingw32-gcc -I"D:/biocbld/bbs-2.6-bioc/R/include" -DUSEDOUBLE -DWINDOWS -O2 -Wall -std=gnu99 -c dproc2.c -o dproc2.o
x86_64-w64-mingw32-gcc -I"D:/biocbld/bbs-2.6-bioc/R/include" -DUSEDOUBLE -DWINDOWS -O2 -Wall -std=gnu99 -c intcor.c -o intcor.o
x86_64-w64-mingw32-gcc -I"D:/biocbld/bbs-2.6-bioc/R/include" -DUSEDOUBLE -DWINDOWS -O2 -Wall -std=gnu99 -c lowess.c -o lowess.o
x86_64-w64-mingw32-gcc -I"D:/biocbld/bbs-2.6-bioc/R/include" -DUSEDOUBLE -DWINDOWS -O2 -Wall -std=gnu99 -c mmath.c -o mmath.o
x86_64-w64-mingw32-gcc -I"D:/biocbld/bbs-2.6-bioc/R/include" -DUSEDOUBLE -DWINDOWS -O2 -Wall -std=gnu99 -c perm.c -o perm.o
x86_64-w64-mingw32-gcc -I"D:/biocbld/bbs-2.6-bioc/R/include" -DUSEDOUBLE -DWINDOWS -O2 -Wall -std=gnu99 -c poe.c -o poe.o
poe.c: In function 'poe_one_iter':
poe.c:431: warning: suggest parentheses around comparison in operand of '&'
poe.c:437: warning: suggest parentheses around comparison in operand of '&'
poe.c:438: warning: suggest parentheses around comparison in operand of '|'
x86_64-w64-mingw32-gcc -shared -s -static-libgcc -o metaArray.dll tmp.def contr.o dproc.o dproc2.o intcor.o lowess.o mmath.o perm.o poe.o -lm -LD:/biocbld/bbs-2.6-bioc/R/bin -lR
installing to D:/biocbld/bbs-2.6-bioc/meat/metaArray.buildbin-libdir/metaArray/libs/x64
... done
** R
** data
** inst
** preparing package for lazy loading
Loading required package: MergeMaid
Loading required package: survival
Loading required package: splines
Loading required package: Biobase
Welcome to Bioconductor
Vignettes contain introductory material. To view, type
'openVignette()'. To cite Bioconductor, see
'citation("Biobase")' and for packages 'citation(pkgname)'.
Loading required package: MASS
** help
*** installing help indices
** building package indices ...
** testing if installed package can be loaded
* MD5 sums
packaged installation of 'metaArray' as metaArray_1.24.0.zip
* DONE (metaArray)