Back to the "Multiple platform build/check report" | A B C D E F G H I J K L [M] N O P Q R S T U V W X Y Z |
Package 228/389 | Hostname | OS / Arch | BUILD | CHECK | BUILD BIN | ||||
marray 1.26.0 Yee Hwa (Jean) Yang
| wilson1 | Linux (openSUSE 11.1) / x86_64 | OK | OK | |||||
liverpool | Windows Server 2003 R2 (32-bit) / x64 | OK | OK | OK | |||||
gewurz | Windows Server 2008 R2 Enterprise (64-bit) / x64 | OK | OK | OK | |||||
pelham | Mac OS X Leopard (10.5.8) / i386 | [ OK ] | OK | OK |
Package: marray |
Version: 1.26.0 |
Command: /Library/Frameworks/R.framework/Versions/2.11/Resources/bin/R CMD build marray |
StartedAt: 2010-10-04 13:42:26 -0700 (Mon, 04 Oct 2010) |
EndedAt: 2010-10-04 13:43:56 -0700 (Mon, 04 Oct 2010) |
EllapsedTime: 90.6 seconds |
RetCode: 0 |
Status: OK |
PackageFile: marray_1.26.0.tar.gz |
PackageFileSize: 3.792 MiB |
* checking for file 'marray/DESCRIPTION' ... OK * preparing 'marray': * checking DESCRIPTION meta-information ... OK * installing the package to re-build vignettes * installing *source* package ‘marray’ ... ** R ** data ** inst ** preparing package for lazy loading ** help *** installing help indices ** building package indices ... ** testing if installed package can be loaded * DONE (marray) * creating vignettes ... OK * removing junk files * checking for LF line-endings in source and make files * checking for empty or unneeded directories * building 'marray_1.26.0.tar.gz'