Back to the "Multiple platform build/check report" | A B C D E F G H [I] J K L M N O P Q R S T U V W X Y Z |
Package 202/389 | Hostname | OS / Arch | BUILD | CHECK | BUILD BIN | ||||
iterativeBMAsurv 1.6.0 Ka Yee Yeung
| wilson1 | Linux (openSUSE 11.1) / x86_64 | OK | OK | |||||
liverpool | Windows Server 2003 R2 (32-bit) / x64 | OK | OK | OK | |||||
gewurz | Windows Server 2008 R2 Enterprise (64-bit) / x64 | [ OK ] | OK | OK | |||||
pelham | Mac OS X Leopard (10.5.8) / i386 | OK | OK | OK |
Package: iterativeBMAsurv |
Version: 1.6.0 |
Command: chmod a+r iterativeBMAsurv -R && D:\biocbld\bbs-2.6-bioc\R\bin\R.exe CMD build iterativeBMAsurv |
StartedAt: 2010-10-04 14:29:55 -0700 (Mon, 04 Oct 2010) |
EndedAt: 2010-10-04 14:30:19 -0700 (Mon, 04 Oct 2010) |
EllapsedTime: 24.3 seconds |
RetCode: 0 |
Status: OK |
PackageFile: iterativeBMAsurv_1.6.0.tar.gz |
PackageFileSize: 220.7 KiB |
* checking for file 'iterativeBMAsurv/DESCRIPTION' ... OK * preparing 'iterativeBMAsurv': * checking DESCRIPTION meta-information ... OK * installing the package to re-build vignettes * installing *source* package 'iterativeBMAsurv' ... ** R ** data ** inst ** preparing package for lazy loading Loading required package: survival Loading required package: splines Loading required package: leaps ** help *** installing help indices ** building package indices ... ** testing if installed package can be loaded * DONE (iterativeBMAsurv) * creating vignettes ... OK * removing junk files * checking for LF line-endings in source and make files * checking for empty or unneeded directories * building 'iterativeBMAsurv_1.6.0.tar.gz'