* checking for file 'girafe/DESCRIPTION' ... OK
* preparing 'girafe':
* checking DESCRIPTION meta-information ... OK
* cleaning src
* installing the package to re-build vignettes
* installing *source* package ‘girafe’ ...
** libs
*** arch - i386
g++ -arch i386 -I/Library/Frameworks/R.framework/Versions/2.11/Resources/include -I/Library/Frameworks/R.framework/Versions/2.11/Resources/include/i386 -I/usr/local/include -fPIC -g -O2 -Wall -fasm-blocks -c coverage.cpp -o coverage.o
gcc -arch i386 -std=gnu99 -I/Library/Frameworks/R.framework/Versions/2.11/Resources/include -I/Library/Frameworks/R.framework/Versions/2.11/Resources/include/i386 -I/usr/local/include -fPIC -g -O2 -Wall -pedantic -c girafe_init.c -o girafe_init.o
g++ -arch i386 -dynamiclib -Wl,-headerpad_max_install_names -undefined dynamic_lookup -single_module -multiply_defined suppress -L/usr/local/lib -o girafe.so coverage.o girafe_init.o -F/Library/Frameworks/R.framework/.. -framework R -Wl,-framework -Wl,CoreFoundation
installing to /private/tmp/Rinst1119404750/girafe/libs/i386
*** arch - ppc
g++ -arch ppc -I/Library/Frameworks/R.framework/Versions/2.11/Resources/include -I/Library/Frameworks/R.framework/Versions/2.11/Resources/include/ppc -I/usr/local/include -fPIC -g -O2 -Wall -fasm-blocks -c coverage.cpp -o coverage.o
gcc -arch ppc -std=gnu99 -I/Library/Frameworks/R.framework/Versions/2.11/Resources/include -I/Library/Frameworks/R.framework/Versions/2.11/Resources/include/ppc -I/usr/local/include -fPIC -g -O2 -Wall -pedantic -c girafe_init.c -o girafe_init.o
g++ -arch ppc -dynamiclib -Wl,-headerpad_max_install_names -undefined dynamic_lookup -single_module -multiply_defined suppress -L/usr/local/lib -o girafe.so coverage.o girafe_init.o -F/Library/Frameworks/R.framework/.. -framework R -Wl,-framework -Wl,CoreFoundation
installing to /private/tmp/Rinst1119404750/girafe/libs/ppc
*** arch - x86_64
g++ -arch x86_64 -I/Library/Frameworks/R.framework/Versions/2.11/Resources/include -I/Library/Frameworks/R.framework/Versions/2.11/Resources/include/x86_64 -I/usr/local/include -fPIC -g -O2 -Wall -fasm-blocks -c coverage.cpp -o coverage.o
gcc -arch x86_64 -std=gnu99 -I/Library/Frameworks/R.framework/Versions/2.11/Resources/include -I/Library/Frameworks/R.framework/Versions/2.11/Resources/include/x86_64 -I/usr/local/include -fPIC -g -O2 -Wall -pedantic -c girafe_init.c -o girafe_init.o
g++ -arch x86_64 -dynamiclib -Wl,-headerpad_max_install_names -undefined dynamic_lookup -single_module -multiply_defined suppress -L/usr/local/lib -o girafe.so coverage.o girafe_init.o -F/Library/Frameworks/R.framework/.. -framework R -Wl,-framework -Wl,CoreFoundation
installing to /private/tmp/Rinst1119404750/girafe/libs/x86_64
** R
** inst
** preparing package for lazy loading
Attaching package: 'IRanges'
The following object(s) are masked from 'package:base':
Map, cbind, mapply, order, paste, pmax, pmax.int, pmin, pmin.int,
rbind, rep.int, table
Loading required package: GenomicRanges
Loading required package: Biostrings
Loading required package: lattice
Loading required package: Rsamtools
Attaching package: 'intervals'
The following object(s) are masked from 'package:Biostrings':
type
The following object(s) are masked from 'package:IRanges':
reduce
Loading required package: Biobase
Welcome to Bioconductor
Vignettes contain introductory material. To view, type
'openVignette()'. To cite Bioconductor, see
'citation("Biobase")' and for packages 'citation(pkgname)'.
Attaching package: 'Biobase'
The following object(s) are masked from 'package:IRanges':
updateObject
Attaching package: 'genomeIntervals'
The following object(s) are masked from 'package:GenomicRanges':
strand, strand<-
Creating a new generic function for "plot" in "girafe"
** help
*** installing help indices
** building package indices ...
** testing if installed package can be loaded
* DONE (girafe)
* creating vignettes ... OK
* cleaning src
* removing junk files
* checking for LF line-endings in source and make files
* checking for empty or unneeded directories
* building 'girafe_1.0.0.tar.gz'