Back to the "Multiple platform build/check report" | A B C D E F [G] H I J K L M N O P Q R S T U V W X Y Z |
Package 158/389 | Hostname | OS / Arch | BUILD | CHECK | BUILD BIN | ||||
genomes 1.4.0 Chris Stubben
| wilson1 | Linux (openSUSE 11.1) / x86_64 | OK | OK | |||||
liverpool | Windows Server 2003 R2 (32-bit) / x64 | OK | OK | OK | |||||
gewurz | Windows Server 2008 R2 Enterprise (64-bit) / x64 | OK | OK | [ OK ] | |||||
pelham | Mac OS X Leopard (10.5.8) / i386 | OK | OK | OK |
Package: genomes |
Version: 1.4.0 |
Command: D:\biocbld\bbs-2.6-bioc\R\bin\R.exe CMD INSTALL --build --library=genomes.buildbin-libdir genomes_1.4.0.tar.gz |
StartedAt: 2010-10-04 19:27:22 -0700 (Mon, 04 Oct 2010) |
EndedAt: 2010-10-04 19:27:26 -0700 (Mon, 04 Oct 2010) |
EllapsedTime: 3.8 seconds |
RetCode: 0 |
Status: OK |
PackageFile: genomes_1.4.0.zip |
PackageFileSize: 1.34 MiB |
* installing *source* package 'genomes' ... Using auto-selected zip option '--use-zip-data' ** R ** data ** inst ** preparing package for lazy loading ** help *** installing help indices ** building package indices ... ** testing if installed package can be loaded * MD5 sums packaged installation of 'genomes' as genomes_1.4.0.zip * DONE (genomes)