Back to the "Multiple platform build/check report" | A B C D E [F] G H I J K L M N O P Q R S T U V W X Y Z |
Package 126/389 | Hostname | OS / Arch | BUILD | CHECK | BUILD BIN | ||||
flowMeans 1.0.1 Nima Aghaeepour
| wilson1 | Linux (openSUSE 11.1) / x86_64 | OK | OK | |||||
liverpool | Windows Server 2003 R2 (32-bit) / x64 | OK | OK | OK | |||||
gewurz | Windows Server 2008 R2 Enterprise (64-bit) / x64 | OK | OK | OK | |||||
pelham | Mac OS X Leopard (10.5.8) / i386 | [ OK ] | OK | OK |
Package: flowMeans |
Version: 1.0.1 |
Command: /Library/Frameworks/R.framework/Versions/2.11/Resources/bin/R CMD build flowMeans |
StartedAt: 2010-10-04 15:27:06 -0700 (Mon, 04 Oct 2010) |
EndedAt: 2010-10-04 15:27:32 -0700 (Mon, 04 Oct 2010) |
EllapsedTime: 26.4 seconds |
RetCode: 0 |
Status: OK |
PackageFile: flowMeans_1.0.1.tar.gz |
PackageFileSize: 1.559 MiB |
* checking for file 'flowMeans/DESCRIPTION' ... OK * preparing 'flowMeans': * checking DESCRIPTION meta-information ... OK * installing the package to re-build vignettes * installing *source* package ‘flowMeans’ ... ** R ** data ** inst ** preparing package for lazy loading Scalable Robust Estimators with High Breakdown Point (version 1.1-00) Creating a new generic function for "summary" in "flowMeans" ** help *** installing help indices ** building package indices ... ** testing if installed package can be loaded * DONE (flowMeans) * creating vignettes ... OK * removing junk files * checking for LF line-endings in source and make files * checking for empty or unneeded directories * building 'flowMeans_1.0.1.tar.gz'