* checking for file 'diffGeneAnalysis/DESCRIPTION' ... OK
* preparing 'diffGeneAnalysis':
* checking DESCRIPTION meta-information ... OK
* installing the package to re-build vignettes
* installing *source* package 'diffGeneAnalysis' ...
** R
** data
** inst
** preparing package for lazy loading
** help
*** installing help indices
** building package indices ...
** testing if installed package can be loaded
* DONE (diffGeneAnalysis)
* creating vignettes ... OK
* removing junk files
* excluding invalid files from 'diffGeneAnalysis'
Subdirectory 'R' contains invalid file names:
diffGeneAnalysis
Subdirectory 'man' contains invalid file names:
README
* checking for LF line-endings in source and make files
* checking for empty or unneeded directories
* building 'diffGeneAnalysis_1.30.0.tar.gz'