Back to the "Multiple platform build/check report" | A [B] C D E F G H I J K L M N O P Q R S T U V W X Y Z |
Package 36/389 | Hostname | OS / Arch | BUILD | CHECK | BUILD BIN | ||||
baySeq 1.2.0 Thomas J. Hardcastle
| wilson1 | Linux (openSUSE 11.1) / x86_64 | [ OK ] | OK | |||||
liverpool | Windows Server 2003 R2 (32-bit) / x64 | OK | WARNINGS | OK | |||||
gewurz | Windows Server 2008 R2 Enterprise (64-bit) / x64 | OK | WARNINGS | OK | |||||
pelham | Mac OS X Leopard (10.5.8) / i386 | OK | OK | OK |
Package: baySeq |
Version: 1.2.0 |
Command: /home/biocbuild/bbs-2.6-bioc/R/bin/R CMD build baySeq |
StartedAt: 2010-10-04 14:56:59 -0700 (Mon, 04 Oct 2010) |
EndedAt: 2010-10-04 14:59:04 -0700 (Mon, 04 Oct 2010) |
EllapsedTime: 124.9 seconds |
RetCode: 0 |
Status: OK |
PackageFile: baySeq_1.2.0.tar.gz |
PackageFileSize: 189.1 KiB |
* checking for file 'baySeq/DESCRIPTION' ... OK * preparing 'baySeq': * checking DESCRIPTION meta-information ... OK * installing the package to re-build vignettes * installing *source* package 'baySeq' ... ** R ** data ** inst ** preparing package for lazy loading ** help *** installing help indices ** building package indices ... ** testing if installed package can be loaded * DONE (baySeq) * creating vignettes ... OK * removing junk files * checking for LF line-endings in source and make files * checking for empty or unneeded directories * building 'baySeq_1.2.0.tar.gz'