* checking for file 'arrayMvout/DESCRIPTION' ... OK
* preparing 'arrayMvout':
* checking DESCRIPTION meta-information ... OK
* installing the package to re-build vignettes
* installing *source* package 'arrayMvout' ...
** R
** data
** inst
** preparing package for lazy loading
Welcome to Bioconductor
Vignettes contain introductory material. To view, type
'openVignette()'. To cite Bioconductor, see
'citation("Biobase")' and for packages 'citation(pkgname)'.
Loading required package: annotate
Loading required package: AnnotationDbi
Loading required package: mgcv
This is mgcv 1.6-2. For overview type 'help("mgcv-package")'.
Loading required package: preprocessCore
Loading required package: RSQLite
Loading required package: DBI
Loading required package: MASS
** help
*** installing help indices
** building package indices ...
** testing if installed package can be loaded
* DONE (arrayMvout)
* creating vignettes ... OK
* removing junk files
* checking for LF line-endings in source and make files
* checking for empty or unneeded directories
* building 'arrayMvout_1.6.0.tar.gz'