* installing *source* package 'adSplit' ...
** libs
making DLL ...
x86_64-w64-mingw32-g++ -I"D:/biocbld/bbs-2.6-bioc/R/include" -O2 -Wall -c adSplit.cpp -o adSplit.o
adSplit.cpp: In function 'double tscore(double*, int, int, split&, isis_pars&)':
adSplit.cpp:256: warning: deprecated conversion from string constant to 'char*'
adSplit.cpp: In function 'void isis(char**, double*, int*, int*, int*, int*, int*, double*, int*)':
adSplit.cpp:469: warning: deprecated conversion from string constant to 'char*'
x86_64-w64-mingw32-g++ -shared -s -static-libgcc -o adSplit.dll tmp.def adSplit.o -LD:/biocbld/bbs-2.6-bioc/R/bin -lR
installing to D:/biocbld/bbs-2.6-bioc/meat/adSplit.buildbin-libdir/adSplit/libs/x64
... done
** R
** data
** inst
** preparing package for lazy loading
Loading required package: DBI
** help
*** installing help indices
** building package indices ...
** testing if installed package can be loaded
* MD5 sums
packaged installation of 'adSplit' as adSplit_1.18.0.zip
* DONE (adSplit)