XDE 1.8.0 Robert Scharpf
Snapshot Date: 2010-10-04 11:22:20 -0700 (Mon, 04 Oct 2010) | URL: https://hedgehog.fhcrc.org/bioconductor/branches/RELEASE_2_6/madman/Rpacks/XDE | Last Changed Rev: 46401 / Revision: 49923 | Last Changed Date: 2010-04-22 11:21:23 -0700 (Thu, 22 Apr 2010) |
| wilson1 | Linux (openSUSE 11.1) / x86_64 | [ OK ] | OK | |
liverpool | Windows Server 2003 R2 (32-bit) / x64 | OK | OK | OK |
gewurz | Windows Server 2008 R2 Enterprise (64-bit) / x64 | OK | OK | OK |
pelham | Mac OS X Leopard (10.5.8) / i386 | OK | OK | OK |
* checking for file 'XDE/DESCRIPTION' ... OK
* preparing 'XDE':
* checking DESCRIPTION meta-information ... OK
* cleaning src
make: Nothing to be done for `clean'.
* installing the package to re-build vignettes
* installing *source* package 'XDE' ...
** libs
g++ -I/home/biocbuild/bbs-2.6-bioc/R/include -I/usr/local/include -fpic -g -O2 -c Cholesky.cpp -o Cholesky.o
g++ -I/home/biocbuild/bbs-2.6-bioc/R/include -I/usr/local/include -fpic -g -O2 -c Matrix.cpp -o Matrix.o
g++ -I/home/biocbuild/bbs-2.6-bioc/R/include -I/usr/local/include -fpic -g -O2 -c Random.cpp -o Random.o
g++ -I/home/biocbuild/bbs-2.6-bioc/R/include -I/usr/local/include -fpic -g -O2 -c Structure.cpp -o Structure.o
In file included from /usr/include/c++/4.3/backward/strstream:51,
from Structure.cpp:1:
/usr/include/c++/4.3/backward/backward_warning.h:33:2: warning: #warning This file includes at least one deprecated or antiquated header which may be removed without further notice at a future date. Please use a non-deprecated interface with equivalent functionality instead. For a listing of replacement headers and interfaces, consult the file backward_warning.h. To disable this warning use -Wno-deprecated.
g++ -I/home/biocbuild/bbs-2.6-bioc/R/include -I/usr/local/include -fpic -g -O2 -c diffExpressed_main.cpp -o diffExpressed_main.o
In file included from diffExpressed_main.cpp:13:
Random.h:19:1: warning: "PI" redefined
In file included from /home/biocbuild/bbs-2.6-bioc/R/include/R.h:44,
from diffExpressed_main.cpp:1:
/home/biocbuild/bbs-2.6-bioc/R/include/R_ext/Constants.h:30:1: warning: this is the location of the previous definition
g++ -I/home/biocbuild/bbs-2.6-bioc/R/include -I/usr/local/include -fpic -g -O2 -c main.cpp -o main.o
g++ -shared -L/usr/local/lib64 -o XDE.so Cholesky.o Matrix.o Random.o Structure.o diffExpressed_main.o main.o -lm -L/home/biocbuild/bbs-2.6-bioc/R/lib -lR
installing to /tmp/Rinst240884910/XDE/libs
** R
** data
** inst
** preparing package for lazy loading
Welcome to Bioconductor
Vignettes contain introductory material. To view, type
'openVignette()'. To cite Bioconductor, see
'citation("Biobase")' and for packages 'citation(pkgname)'.
Creating a new generic function for "pairs" in "XDE"
Creating a new generic function for "lapply" in "XDE"
Creating a new generic function for "nrow" in "XDE"
Creating a new generic function for "plot" in "XDE"
** help
*** installing help indices
** building package indices ...
** testing if installed package can be loaded
* DONE (XDE)
* creating vignettes ... OK
* cleaning src
make: Nothing to be done for `clean'.
* removing junk files
* checking for LF line-endings in source and make files
* checking for empty or unneeded directories
* building 'XDE_1.8.0.tar.gz'