| TargetSearch 1.4.2 Alvaro Cuadros-Inostroza
 
 | Snapshot Date: 2010-10-04 11:22:20 -0700 (Mon, 04 Oct 2010) |  | URL: https://hedgehog.fhcrc.org/bioconductor/branches/RELEASE_2_6/madman/Rpacks/TargetSearch |  | Last Changed Rev: 49209 / Revision: 49923 |  | Last Changed Date: 2010-09-02 12:14:00 -0700 (Thu, 02 Sep 2010) | 
 | wilson1 | Linux (openSUSE 11.1) / x86_64 | OK | OK |  | 
| liverpool | Windows Server 2003 R2 (32-bit) / x64 | OK | OK | OK | 
| gewurz | Windows Server 2008 R2 Enterprise (64-bit) / x64 | OK | OK | OK | 
| pelham | Mac OS X Leopard (10.5.8) / i386 | OK | OK | [ OK ] | 
                INSTALLATION WITH 'R CMD INSTALL --preclean --library=TargetSearch.buildbin-libdir TargetSearch_1.4.2.tar.gz'
* installing *source* package ‘TargetSearch’ ...
** libs
*** arch - i386
gcc -arch i386 -std=gnu99 -I/Library/Frameworks/R.framework/Versions/2.11/Resources/include -I/Library/Frameworks/R.framework/Versions/2.11/Resources/include/i386  -I/usr/local/include    -fPIC  -g -O2 -Wall -pedantic -c Rinit.c -o Rinit.o
gcc -arch i386 -std=gnu99 -I/Library/Frameworks/R.framework/Versions/2.11/Resources/include -I/Library/Frameworks/R.framework/Versions/2.11/Resources/include/i386  -I/usr/local/include    -fPIC  -g -O2 -Wall -pedantic -c find_peaks.c -o find_peaks.o
gcc -arch i386 -std=gnu99 -I/Library/Frameworks/R.framework/Versions/2.11/Resources/include -I/Library/Frameworks/R.framework/Versions/2.11/Resources/include/i386  -I/usr/local/include    -fPIC  -g -O2 -Wall -pedantic -c getLine.c -o getLine.o
gcc -arch i386 -std=gnu99 -I/Library/Frameworks/R.framework/Versions/2.11/Resources/include -I/Library/Frameworks/R.framework/Versions/2.11/Resources/include/i386  -I/usr/local/include    -fPIC  -g -O2 -Wall -pedantic -c hpf.c -o hpf.o
gcc -arch i386 -std=gnu99 -I/Library/Frameworks/R.framework/Versions/2.11/Resources/include -I/Library/Frameworks/R.framework/Versions/2.11/Resources/include/i386  -I/usr/local/include    -fPIC  -g -O2 -Wall -pedantic -c netcdf_peak_finding.c -o netcdf_peak_finding.o
gcc -arch i386 -std=gnu99 -I/Library/Frameworks/R.framework/Versions/2.11/Resources/include -I/Library/Frameworks/R.framework/Versions/2.11/Resources/include/i386  -I/usr/local/include    -fPIC  -g -O2 -Wall -pedantic -c peakExtraction.c -o peakExtraction.o
gcc -arch i386 -std=gnu99 -I/Library/Frameworks/R.framework/Versions/2.11/Resources/include -I/Library/Frameworks/R.framework/Versions/2.11/Resources/include/i386  -I/usr/local/include    -fPIC  -g -O2 -Wall -pedantic -c ppc.c -o ppc.o
gcc -arch i386 -std=gnu99 -dynamiclib -Wl,-headerpad_max_install_names -undefined dynamic_lookup -single_module -multiply_defined suppress -L/usr/local/lib -o TargetSearch.so Rinit.o find_peaks.o getLine.o hpf.o netcdf_peak_finding.o peakExtraction.o ppc.o -F/Library/Frameworks/R.framework/.. -framework R -Wl,-framework -Wl,CoreFoundation
installing to /Users/biocbuild/bbs-2.6-bioc/meat/TargetSearch.buildbin-libdir/TargetSearch/libs/i386
*** arch - ppc
gcc -arch ppc -std=gnu99 -I/Library/Frameworks/R.framework/Versions/2.11/Resources/include -I/Library/Frameworks/R.framework/Versions/2.11/Resources/include/ppc  -I/usr/local/include    -fPIC  -g -O2 -Wall -pedantic -c Rinit.c -o Rinit.o
gcc -arch ppc -std=gnu99 -I/Library/Frameworks/R.framework/Versions/2.11/Resources/include -I/Library/Frameworks/R.framework/Versions/2.11/Resources/include/ppc  -I/usr/local/include    -fPIC  -g -O2 -Wall -pedantic -c find_peaks.c -o find_peaks.o
gcc -arch ppc -std=gnu99 -I/Library/Frameworks/R.framework/Versions/2.11/Resources/include -I/Library/Frameworks/R.framework/Versions/2.11/Resources/include/ppc  -I/usr/local/include    -fPIC  -g -O2 -Wall -pedantic -c getLine.c -o getLine.o
gcc -arch ppc -std=gnu99 -I/Library/Frameworks/R.framework/Versions/2.11/Resources/include -I/Library/Frameworks/R.framework/Versions/2.11/Resources/include/ppc  -I/usr/local/include    -fPIC  -g -O2 -Wall -pedantic -c hpf.c -o hpf.o
gcc -arch ppc -std=gnu99 -I/Library/Frameworks/R.framework/Versions/2.11/Resources/include -I/Library/Frameworks/R.framework/Versions/2.11/Resources/include/ppc  -I/usr/local/include    -fPIC  -g -O2 -Wall -pedantic -c netcdf_peak_finding.c -o netcdf_peak_finding.o
gcc -arch ppc -std=gnu99 -I/Library/Frameworks/R.framework/Versions/2.11/Resources/include -I/Library/Frameworks/R.framework/Versions/2.11/Resources/include/ppc  -I/usr/local/include    -fPIC  -g -O2 -Wall -pedantic -c peakExtraction.c -o peakExtraction.o
gcc -arch ppc -std=gnu99 -I/Library/Frameworks/R.framework/Versions/2.11/Resources/include -I/Library/Frameworks/R.framework/Versions/2.11/Resources/include/ppc  -I/usr/local/include    -fPIC  -g -O2 -Wall -pedantic -c ppc.c -o ppc.o
gcc -arch ppc -std=gnu99 -dynamiclib -Wl,-headerpad_max_install_names -undefined dynamic_lookup -single_module -multiply_defined suppress -L/usr/local/lib -o TargetSearch.so Rinit.o find_peaks.o getLine.o hpf.o netcdf_peak_finding.o peakExtraction.o ppc.o -F/Library/Frameworks/R.framework/.. -framework R -Wl,-framework -Wl,CoreFoundation
installing to /Users/biocbuild/bbs-2.6-bioc/meat/TargetSearch.buildbin-libdir/TargetSearch/libs/ppc
*** arch - x86_64
gcc -arch x86_64 -std=gnu99 -I/Library/Frameworks/R.framework/Versions/2.11/Resources/include -I/Library/Frameworks/R.framework/Versions/2.11/Resources/include/x86_64  -I/usr/local/include    -fPIC  -g -O2 -Wall -pedantic -c Rinit.c -o Rinit.o
gcc -arch x86_64 -std=gnu99 -I/Library/Frameworks/R.framework/Versions/2.11/Resources/include -I/Library/Frameworks/R.framework/Versions/2.11/Resources/include/x86_64  -I/usr/local/include    -fPIC  -g -O2 -Wall -pedantic -c find_peaks.c -o find_peaks.o
gcc -arch x86_64 -std=gnu99 -I/Library/Frameworks/R.framework/Versions/2.11/Resources/include -I/Library/Frameworks/R.framework/Versions/2.11/Resources/include/x86_64  -I/usr/local/include    -fPIC  -g -O2 -Wall -pedantic -c getLine.c -o getLine.o
gcc -arch x86_64 -std=gnu99 -I/Library/Frameworks/R.framework/Versions/2.11/Resources/include -I/Library/Frameworks/R.framework/Versions/2.11/Resources/include/x86_64  -I/usr/local/include    -fPIC  -g -O2 -Wall -pedantic -c hpf.c -o hpf.o
gcc -arch x86_64 -std=gnu99 -I/Library/Frameworks/R.framework/Versions/2.11/Resources/include -I/Library/Frameworks/R.framework/Versions/2.11/Resources/include/x86_64  -I/usr/local/include    -fPIC  -g -O2 -Wall -pedantic -c netcdf_peak_finding.c -o netcdf_peak_finding.o
gcc -arch x86_64 -std=gnu99 -I/Library/Frameworks/R.framework/Versions/2.11/Resources/include -I/Library/Frameworks/R.framework/Versions/2.11/Resources/include/x86_64  -I/usr/local/include    -fPIC  -g -O2 -Wall -pedantic -c peakExtraction.c -o peakExtraction.o
gcc -arch x86_64 -std=gnu99 -I/Library/Frameworks/R.framework/Versions/2.11/Resources/include -I/Library/Frameworks/R.framework/Versions/2.11/Resources/include/x86_64  -I/usr/local/include    -fPIC  -g -O2 -Wall -pedantic -c ppc.c -o ppc.o
gcc -arch x86_64 -std=gnu99 -dynamiclib -Wl,-headerpad_max_install_names -undefined dynamic_lookup -single_module -multiply_defined suppress -L/usr/local/lib -o TargetSearch.so Rinit.o find_peaks.o getLine.o hpf.o netcdf_peak_finding.o peakExtraction.o ppc.o -F/Library/Frameworks/R.framework/.. -framework R -Wl,-framework -Wl,CoreFoundation
installing to /Users/biocbuild/bbs-2.6-bioc/meat/TargetSearch.buildbin-libdir/TargetSearch/libs/x86_64
** R
** inst
** preparing package for lazy loading
Loading Tcl/Tk interface ... done
** help
*** installing help indices
** building package indices ...
** testing if installed package can be loaded
* DONE (TargetSearch)