INSTALLATION WITH 'R CMD INSTALL --preclean --library=Starr.buildbin-libdir Starr_1.4.4.tar.gz'
* installing *source* package ‘Starr’ ...
creating cache ./config.cache
checking how to run the C preprocessor... cc -E
checking for main in -lz... yes
checking for zlib.h... yes
checking if zlib version >= 1.1.3... yes
updating cache ./config.cache
creating ./config.status
creating src/Makevars
** libs
*** arch - i386
gcc -arch i386 -std=gnu99 -I/Library/Frameworks/R.framework/Versions/2.11/Resources/include -I/Library/Frameworks/R.framework/Versions/2.11/Resources/include/i386 -DHAVE_ZLIB=1 -I/usr/local/include -fPIC -g -O2 -Wall -pedantic -c ahocorasick.c -o ahocorasick.o
ahocorasick.c: In function ‘find_ac2’:
ahocorasick.c:352: warning: ‘root’ is used uninitialized in this function
gcc -arch i386 -std=gnu99 -I/Library/Frameworks/R.framework/Versions/2.11/Resources/include -I/Library/Frameworks/R.framework/Versions/2.11/Resources/include/i386 -DHAVE_ZLIB=1 -I/usr/local/include -fPIC -g -O2 -Wall -pedantic -c collect.c -o collect.o
gcc -arch i386 -std=gnu99 -I/Library/Frameworks/R.framework/Versions/2.11/Resources/include -I/Library/Frameworks/R.framework/Versions/2.11/Resources/include/i386 -DHAVE_ZLIB=1 -I/usr/local/include -fPIC -g -O2 -Wall -pedantic -c rm_small_peak.c -o rm_small_peak.o
gcc -arch i386 -std=gnu99 -I/Library/Frameworks/R.framework/Versions/2.11/Resources/include -I/Library/Frameworks/R.framework/Versions/2.11/Resources/include/i386 -DHAVE_ZLIB=1 -I/usr/local/include -fPIC -g -O2 -Wall -pedantic -c sort_by_genomic.c -o sort_by_genomic.o
gcc -arch i386 -std=gnu99 -dynamiclib -Wl,-headerpad_max_install_names -undefined dynamic_lookup -single_module -multiply_defined suppress -L/usr/local/lib -o Starr.so ahocorasick.o collect.o rm_small_peak.o sort_by_genomic.o -lz -F/Library/Frameworks/R.framework/.. -framework R -Wl,-framework -Wl,CoreFoundation
installing to /Users/biocbuild/bbs-2.6-bioc/meat/Starr.buildbin-libdir/Starr/libs/i386
** R
** inst
** preparing package for lazy loading
Loading required package: Biobase
Welcome to Bioconductor
Vignettes contain introductory material. To view, type
'openVignette()'. To cite Bioconductor, see
'citation("Biobase")' and for packages 'citation(pkgname)'.
Loading required package: RColorBrewer
Loading required package: limma
Loading required package: Matrix
Loading required package: lattice
Attaching package: 'Matrix'
The following object(s) are masked from 'package:base':
det
Loading required package: grid
Attaching package: 'affy'
The following object(s) are masked from 'package:Ringo':
probes
** help
*** installing help indices
** building package indices ...
** testing if installed package can be loaded
* DONE (Starr)
INSTALLATION OF ppc LIBS WITH 'R_ARCH=/ppc R CMD INSTALL --preclean --library=Starr.buildbin-libdir --libs-only Starr_1.4.4.tar.gz'
* installing *source* package ‘Starr’ ...
creating cache ./config.cache
checking how to run the C preprocessor... cc -E
checking for main in -lz... yes
checking for zlib.h... yes
checking if zlib version >= 1.1.3... yes
updating cache ./config.cache
creating ./config.status
creating src/Makevars
** libs
*** arch - ppc
gcc -arch ppc -std=gnu99 -I/Library/Frameworks/R.framework/Versions/2.11/Resources/include -I/Library/Frameworks/R.framework/Versions/2.11/Resources/include/ppc -DHAVE_ZLIB=1 -I/usr/local/include -fPIC -g -O2 -Wall -pedantic -c ahocorasick.c -o ahocorasick.o
ahocorasick.c: In function ‘find_ac2’:
ahocorasick.c:352: warning: ‘root’ is used uninitialized in this function
gcc -arch ppc -std=gnu99 -I/Library/Frameworks/R.framework/Versions/2.11/Resources/include -I/Library/Frameworks/R.framework/Versions/2.11/Resources/include/ppc -DHAVE_ZLIB=1 -I/usr/local/include -fPIC -g -O2 -Wall -pedantic -c collect.c -o collect.o
gcc -arch ppc -std=gnu99 -I/Library/Frameworks/R.framework/Versions/2.11/Resources/include -I/Library/Frameworks/R.framework/Versions/2.11/Resources/include/ppc -DHAVE_ZLIB=1 -I/usr/local/include -fPIC -g -O2 -Wall -pedantic -c rm_small_peak.c -o rm_small_peak.o
gcc -arch ppc -std=gnu99 -I/Library/Frameworks/R.framework/Versions/2.11/Resources/include -I/Library/Frameworks/R.framework/Versions/2.11/Resources/include/ppc -DHAVE_ZLIB=1 -I/usr/local/include -fPIC -g -O2 -Wall -pedantic -c sort_by_genomic.c -o sort_by_genomic.o
gcc -arch ppc -std=gnu99 -dynamiclib -Wl,-headerpad_max_install_names -undefined dynamic_lookup -single_module -multiply_defined suppress -L/usr/local/lib -o Starr.so ahocorasick.o collect.o rm_small_peak.o sort_by_genomic.o -lz -F/Library/Frameworks/R.framework/.. -framework R -Wl,-framework -Wl,CoreFoundation
installing to /Users/biocbuild/bbs-2.6-bioc/meat/Starr.buildbin-libdir/Starr/libs/ppc
* DONE (Starr)
INSTALLATION OF x86_64 LIBS WITH 'R_ARCH=/x86_64 R CMD INSTALL --preclean --library=Starr.buildbin-libdir --libs-only Starr_1.4.4.tar.gz'
* installing *source* package ‘Starr’ ...
creating cache ./config.cache
checking how to run the C preprocessor... cc -E
checking for main in -lz... yes
checking for zlib.h... yes
checking if zlib version >= 1.1.3... yes
updating cache ./config.cache
creating ./config.status
creating src/Makevars
** libs
*** arch - x86_64
gcc -arch x86_64 -std=gnu99 -I/Library/Frameworks/R.framework/Versions/2.11/Resources/include -I/Library/Frameworks/R.framework/Versions/2.11/Resources/include/x86_64 -DHAVE_ZLIB=1 -I/usr/local/include -fPIC -g -O2 -Wall -pedantic -c ahocorasick.c -o ahocorasick.o
ahocorasick.c: In function ‘find_ac2’:
ahocorasick.c:352: warning: ‘root’ is used uninitialized in this function
gcc -arch x86_64 -std=gnu99 -I/Library/Frameworks/R.framework/Versions/2.11/Resources/include -I/Library/Frameworks/R.framework/Versions/2.11/Resources/include/x86_64 -DHAVE_ZLIB=1 -I/usr/local/include -fPIC -g -O2 -Wall -pedantic -c collect.c -o collect.o
gcc -arch x86_64 -std=gnu99 -I/Library/Frameworks/R.framework/Versions/2.11/Resources/include -I/Library/Frameworks/R.framework/Versions/2.11/Resources/include/x86_64 -DHAVE_ZLIB=1 -I/usr/local/include -fPIC -g -O2 -Wall -pedantic -c rm_small_peak.c -o rm_small_peak.o
gcc -arch x86_64 -std=gnu99 -I/Library/Frameworks/R.framework/Versions/2.11/Resources/include -I/Library/Frameworks/R.framework/Versions/2.11/Resources/include/x86_64 -DHAVE_ZLIB=1 -I/usr/local/include -fPIC -g -O2 -Wall -pedantic -c sort_by_genomic.c -o sort_by_genomic.o
gcc -arch x86_64 -std=gnu99 -dynamiclib -Wl,-headerpad_max_install_names -undefined dynamic_lookup -single_module -multiply_defined suppress -L/usr/local/lib -o Starr.so ahocorasick.o collect.o rm_small_peak.o sort_by_genomic.o -lz -F/Library/Frameworks/R.framework/.. -framework R -Wl,-framework -Wl,CoreFoundation
installing to /Users/biocbuild/bbs-2.6-bioc/meat/Starr.buildbin-libdir/Starr/libs/x86_64
* DONE (Starr)