INSTALLATION WITH 'R CMD INSTALL --preclean --library=SamSPECTRAL.buildbin-libdir SamSPECTRAL_1.1.6.tar.gz'
* installing *source* package ‘SamSPECTRAL’ ...
** libs
*** arch - i386
gcc -arch i386 -std=gnu99 -I/Library/Frameworks/R.framework/Versions/2.11/Resources/include -I/Library/Frameworks/R.framework/Versions/2.11/Resources/include/i386 -I/usr/local/include -fPIC -g -O2 -Wall -pedantic -c Rinit.c -o Rinit.o
gcc -arch i386 -std=gnu99 -I/Library/Frameworks/R.framework/Versions/2.11/Resources/include -I/Library/Frameworks/R.framework/Versions/2.11/Resources/include/i386 -I/usr/local/include -fPIC -g -O2 -Wall -pedantic -c conductance_computation.c -o conductance_computation.o
conductance_computation.c: In function ‘conductance_computation’:
conductance_computation.c:153: warning: unused variable ‘dj’
conductance_computation.c:153: warning: unused variable ‘di’
conductance_computation.c:152: warning: unused variable ‘memberLen’
gcc -arch i386 -std=gnu99 -I/Library/Frameworks/R.framework/Versions/2.11/Resources/include -I/Library/Frameworks/R.framework/Versions/2.11/Resources/include/i386 -I/usr/local/include -fPIC -g -O2 -Wall -pedantic -c maximum_of_rows.c -o maximum_of_rows.o
gcc -arch i386 -std=gnu99 -dynamiclib -Wl,-headerpad_max_install_names -undefined dynamic_lookup -single_module -multiply_defined suppress -L/usr/local/lib -o SamSPECTRAL.so Rinit.o conductance_computation.o maximum_of_rows.o -F/Library/Frameworks/R.framework/.. -framework R -Wl,-framework -Wl,CoreFoundation
installing to /Users/biocbuild/bbs-2.6-bioc/meat/SamSPECTRAL.buildbin-libdir/SamSPECTRAL/libs/i386
*** arch - ppc
gcc -arch ppc -std=gnu99 -I/Library/Frameworks/R.framework/Versions/2.11/Resources/include -I/Library/Frameworks/R.framework/Versions/2.11/Resources/include/ppc -I/usr/local/include -fPIC -g -O2 -Wall -pedantic -c Rinit.c -o Rinit.o
gcc -arch ppc -std=gnu99 -I/Library/Frameworks/R.framework/Versions/2.11/Resources/include -I/Library/Frameworks/R.framework/Versions/2.11/Resources/include/ppc -I/usr/local/include -fPIC -g -O2 -Wall -pedantic -c conductance_computation.c -o conductance_computation.o
conductance_computation.c: In function ‘conductance_computation’:
conductance_computation.c:153: warning: unused variable ‘dj’
conductance_computation.c:153: warning: unused variable ‘di’
conductance_computation.c:152: warning: unused variable ‘memberLen’
gcc -arch ppc -std=gnu99 -I/Library/Frameworks/R.framework/Versions/2.11/Resources/include -I/Library/Frameworks/R.framework/Versions/2.11/Resources/include/ppc -I/usr/local/include -fPIC -g -O2 -Wall -pedantic -c maximum_of_rows.c -o maximum_of_rows.o
gcc -arch ppc -std=gnu99 -dynamiclib -Wl,-headerpad_max_install_names -undefined dynamic_lookup -single_module -multiply_defined suppress -L/usr/local/lib -o SamSPECTRAL.so Rinit.o conductance_computation.o maximum_of_rows.o -F/Library/Frameworks/R.framework/.. -framework R -Wl,-framework -Wl,CoreFoundation
installing to /Users/biocbuild/bbs-2.6-bioc/meat/SamSPECTRAL.buildbin-libdir/SamSPECTRAL/libs/ppc
*** arch - x86_64
gcc -arch x86_64 -std=gnu99 -I/Library/Frameworks/R.framework/Versions/2.11/Resources/include -I/Library/Frameworks/R.framework/Versions/2.11/Resources/include/x86_64 -I/usr/local/include -fPIC -g -O2 -Wall -pedantic -c Rinit.c -o Rinit.o
gcc -arch x86_64 -std=gnu99 -I/Library/Frameworks/R.framework/Versions/2.11/Resources/include -I/Library/Frameworks/R.framework/Versions/2.11/Resources/include/x86_64 -I/usr/local/include -fPIC -g -O2 -Wall -pedantic -c conductance_computation.c -o conductance_computation.o
conductance_computation.c: In function ‘conductance_computation’:
conductance_computation.c:153: warning: unused variable ‘dj’
conductance_computation.c:153: warning: unused variable ‘di’
conductance_computation.c:152: warning: unused variable ‘memberLen’
gcc -arch x86_64 -std=gnu99 -I/Library/Frameworks/R.framework/Versions/2.11/Resources/include -I/Library/Frameworks/R.framework/Versions/2.11/Resources/include/x86_64 -I/usr/local/include -fPIC -g -O2 -Wall -pedantic -c maximum_of_rows.c -o maximum_of_rows.o
gcc -arch x86_64 -std=gnu99 -dynamiclib -Wl,-headerpad_max_install_names -undefined dynamic_lookup -single_module -multiply_defined suppress -L/usr/local/lib -o SamSPECTRAL.so Rinit.o conductance_computation.o maximum_of_rows.o -F/Library/Frameworks/R.framework/.. -framework R -Wl,-framework -Wl,CoreFoundation
installing to /Users/biocbuild/bbs-2.6-bioc/meat/SamSPECTRAL.buildbin-libdir/SamSPECTRAL/libs/x86_64
** R
** data
** inst
** preparing package for lazy loading
** help
*** installing help indices
** building package indices ...
** testing if installed package can be loaded
* DONE (SamSPECTRAL)