* checking for file 'SNPchip/DESCRIPTION' ... OK
* preparing 'SNPchip':
* checking DESCRIPTION meta-information ... OK
* installing the package to re-build vignettes
* installing *source* package ‘SNPchip’ ...
** R
** data
** inst
** preparing package for lazy loading
Welcome to Bioconductor
Vignettes contain introductory material. To view, type
'openVignette()'. To cite Bioconductor, see
'citation("Biobase")' and for packages 'citation(pkgname)'.
================================================================================
Welcome to oligoClasses version 1.10.0
================================================================================
Large dataset support for 'oligo/crlmm': Disabled
- Load 'ff'
================================================================================
Parallel computing support for 'oligo/crlmm': Disabled
- Load 'ff'
- Load 'snow'
- Use options(cluster=makeCluster(...))
================================================================================
Creating a new generic function for "summary" in "SNPchip"
Creating a new generic function for "plot" in "SNPchip"
** help
*** installing help indices
** building package indices ...
** testing if installed package can be loaded
Welcome to SNPchip version 1.12.0
* DONE (SNPchip)
* creating vignettes ... OK
* removing junk files
* excluding invalid files from 'SNPchip'
Subdirectory 'man' contains invalid file names:
.calculateYlim.Rd
* checking for LF line-endings in source and make files
* checking for empty or unneeded directories
* building 'SNPchip_1.12.0.tar.gz'