INSTALLATION WITH 'R CMD INSTALL --preclean --library=SMAP.buildbin-libdir SMAP_1.12.0.tar.gz'
* installing *source* package ‘SMAP’ ...
** libs
*** arch - i386
gcc -arch i386 -std=gnu99 -I/Library/Frameworks/R.framework/Versions/2.11/Resources/include -I/Library/Frameworks/R.framework/Versions/2.11/Resources/include/i386 -I/usr/local/include -fPIC -g -O2 -Wall -pedantic -c gradient.c -o gradient.o
gradient.c: In function ‘hmm_update’:
gradient.c:247: warning: unused variable ‘tmp’
gcc -arch i386 -std=gnu99 -I/Library/Frameworks/R.framework/Versions/2.11/Resources/include -I/Library/Frameworks/R.framework/Versions/2.11/Resources/include/i386 -I/usr/local/include -fPIC -g -O2 -Wall -pedantic -c init.c -o init.o
gcc -arch i386 -std=gnu99 -I/Library/Frameworks/R.framework/Versions/2.11/Resources/include -I/Library/Frameworks/R.framework/Versions/2.11/Resources/include/i386 -I/usr/local/include -fPIC -g -O2 -Wall -pedantic -c overlap.c -o overlap.o
gcc -arch i386 -std=gnu99 -I/Library/Frameworks/R.framework/Versions/2.11/Resources/include -I/Library/Frameworks/R.framework/Versions/2.11/Resources/include/i386 -I/usr/local/include -fPIC -g -O2 -Wall -pedantic -c prob.c -o prob.o
gcc -arch i386 -std=gnu99 -I/Library/Frameworks/R.framework/Versions/2.11/Resources/include -I/Library/Frameworks/R.framework/Versions/2.11/Resources/include/i386 -I/usr/local/include -fPIC -g -O2 -Wall -pedantic -c viterbi.c -o viterbi.o
gcc -arch i386 -std=gnu99 -dynamiclib -Wl,-headerpad_max_install_names -undefined dynamic_lookup -single_module -multiply_defined suppress -L/usr/local/lib -o SMAP.so gradient.o init.o overlap.o prob.o viterbi.o -F/Library/Frameworks/R.framework/.. -framework R -Wl,-framework -Wl,CoreFoundation
installing to /Users/biocbuild/bbs-2.6-bioc/meat/SMAP.buildbin-libdir/SMAP/libs/i386
*** arch - ppc
gcc -arch ppc -std=gnu99 -I/Library/Frameworks/R.framework/Versions/2.11/Resources/include -I/Library/Frameworks/R.framework/Versions/2.11/Resources/include/ppc -I/usr/local/include -fPIC -g -O2 -Wall -pedantic -c gradient.c -o gradient.o
gradient.c: In function ‘hmm_update’:
gradient.c:247: warning: unused variable ‘tmp’
gcc -arch ppc -std=gnu99 -I/Library/Frameworks/R.framework/Versions/2.11/Resources/include -I/Library/Frameworks/R.framework/Versions/2.11/Resources/include/ppc -I/usr/local/include -fPIC -g -O2 -Wall -pedantic -c init.c -o init.o
gcc -arch ppc -std=gnu99 -I/Library/Frameworks/R.framework/Versions/2.11/Resources/include -I/Library/Frameworks/R.framework/Versions/2.11/Resources/include/ppc -I/usr/local/include -fPIC -g -O2 -Wall -pedantic -c overlap.c -o overlap.o
gcc -arch ppc -std=gnu99 -I/Library/Frameworks/R.framework/Versions/2.11/Resources/include -I/Library/Frameworks/R.framework/Versions/2.11/Resources/include/ppc -I/usr/local/include -fPIC -g -O2 -Wall -pedantic -c prob.c -o prob.o
gcc -arch ppc -std=gnu99 -I/Library/Frameworks/R.framework/Versions/2.11/Resources/include -I/Library/Frameworks/R.framework/Versions/2.11/Resources/include/ppc -I/usr/local/include -fPIC -g -O2 -Wall -pedantic -c viterbi.c -o viterbi.o
gcc -arch ppc -std=gnu99 -dynamiclib -Wl,-headerpad_max_install_names -undefined dynamic_lookup -single_module -multiply_defined suppress -L/usr/local/lib -o SMAP.so gradient.o init.o overlap.o prob.o viterbi.o -F/Library/Frameworks/R.framework/.. -framework R -Wl,-framework -Wl,CoreFoundation
installing to /Users/biocbuild/bbs-2.6-bioc/meat/SMAP.buildbin-libdir/SMAP/libs/ppc
*** arch - x86_64
gcc -arch x86_64 -std=gnu99 -I/Library/Frameworks/R.framework/Versions/2.11/Resources/include -I/Library/Frameworks/R.framework/Versions/2.11/Resources/include/x86_64 -I/usr/local/include -fPIC -g -O2 -Wall -pedantic -c gradient.c -o gradient.o
gradient.c: In function ‘hmm_update’:
gradient.c:247: warning: unused variable ‘tmp’
gcc -arch x86_64 -std=gnu99 -I/Library/Frameworks/R.framework/Versions/2.11/Resources/include -I/Library/Frameworks/R.framework/Versions/2.11/Resources/include/x86_64 -I/usr/local/include -fPIC -g -O2 -Wall -pedantic -c init.c -o init.o
gcc -arch x86_64 -std=gnu99 -I/Library/Frameworks/R.framework/Versions/2.11/Resources/include -I/Library/Frameworks/R.framework/Versions/2.11/Resources/include/x86_64 -I/usr/local/include -fPIC -g -O2 -Wall -pedantic -c overlap.c -o overlap.o
gcc -arch x86_64 -std=gnu99 -I/Library/Frameworks/R.framework/Versions/2.11/Resources/include -I/Library/Frameworks/R.framework/Versions/2.11/Resources/include/x86_64 -I/usr/local/include -fPIC -g -O2 -Wall -pedantic -c prob.c -o prob.o
gcc -arch x86_64 -std=gnu99 -I/Library/Frameworks/R.framework/Versions/2.11/Resources/include -I/Library/Frameworks/R.framework/Versions/2.11/Resources/include/x86_64 -I/usr/local/include -fPIC -g -O2 -Wall -pedantic -c viterbi.c -o viterbi.o
gcc -arch x86_64 -std=gnu99 -dynamiclib -Wl,-headerpad_max_install_names -undefined dynamic_lookup -single_module -multiply_defined suppress -L/usr/local/lib -o SMAP.so gradient.o init.o overlap.o prob.o viterbi.o -F/Library/Frameworks/R.framework/.. -framework R -Wl,-framework -Wl,CoreFoundation
installing to /Users/biocbuild/bbs-2.6-bioc/meat/SMAP.buildbin-libdir/SMAP/libs/x86_64
** R
** data
** inst
** preparing package for lazy loading
Creating a new generic function for "plot" in "SMAP"
** help
*** installing help indices
** building package indices ...
** testing if installed package can be loaded
* DONE (SMAP)