Back to the "Multiple platform build/check report" | A B C D E F G H I J K L M N O P Q [R] S T U V W X Y Z |
Package 319/389 | Hostname | OS / Arch | BUILD | CHECK | BUILD BIN | ||||
RmiR 1.4.0 Francesco Favero
| wilson1 | Linux (openSUSE 11.1) / x86_64 | OK | OK | |||||
liverpool | Windows Server 2003 R2 (32-bit) / x64 | OK | OK | OK | |||||
gewurz | Windows Server 2008 R2 Enterprise (64-bit) / x64 | [ OK ] | TIMEOUT | OK | |||||
pelham | Mac OS X Leopard (10.5.8) / i386 | OK | OK | OK |
Package: RmiR |
Version: 1.4.0 |
Command: chmod a+r RmiR -R && D:\biocbld\bbs-2.6-bioc\R\bin\R.exe CMD build RmiR |
StartedAt: 2010-10-04 14:44:47 -0700 (Mon, 04 Oct 2010) |
EndedAt: 2010-10-04 14:45:32 -0700 (Mon, 04 Oct 2010) |
EllapsedTime: 44.9 seconds |
RetCode: 0 |
Status: OK |
PackageFile: RmiR_1.4.0.tar.gz |
PackageFileSize: 333.1 KiB |
* checking for file 'RmiR/DESCRIPTION' ... OK * preparing 'RmiR': * checking DESCRIPTION meta-information ... OK * installing the package to re-build vignettes * installing *source* package 'RmiR' ... ** R ** data ** inst ** preparing package for lazy loading Loading required package: DBI ** help *** installing help indices ** building package indices ... ** testing if installed package can be loaded * DONE (RmiR) * creating vignettes ... OK * removing junk files * checking for LF line-endings in source and make files * checking for empty or unneeded directories * building 'RmiR_1.4.0.tar.gz'