* checking for file 'RTCA/DESCRIPTION' ... OK
* preparing 'RTCA':
* checking DESCRIPTION meta-information ... OK
* installing the package to re-build vignettes
* installing *source* package ‘RTCA’ ...
** R
** inst
** preparing package for lazy loading
Welcome to Bioconductor
Vignettes contain introductory material. To view, type
'openVignette()'. To cite Bioconductor, see
'citation("Biobase")' and for packages 'citation(pkgname)'.
Creating a new generic function for "time" in "RTCA"
Creating a new generic function for "plot" in "RTCA"
** help
*** installing help indices
** building package indices ...
** testing if installed package can be loaded
* DONE (RTCA)
* creating vignettes ... OK
* removing junk files
* checking for LF line-endings in source and make files
* checking for empty or unneeded directories
* building 'RTCA_1.2.0.tar.gz'