Back to the "Multiple platform build/check report" | A B C D E F G H I J K L M N O P Q [R] S T U V W X Y Z |
Package 315/389 | Hostname | OS / Arch | BUILD | CHECK | BUILD BIN | ||||
RLMM 1.10.0 Nusrat Rabbee
| wilson1 | Linux (openSUSE 11.1) / x86_64 | OK | OK | |||||
liverpool | Windows Server 2003 R2 (32-bit) / x64 | OK | OK | OK | |||||
gewurz | Windows Server 2008 R2 Enterprise (64-bit) / x64 | [ OK ] | OK | OK | |||||
pelham | Mac OS X Leopard (10.5.8) / i386 | OK | OK | OK |
Package: RLMM |
Version: 1.10.0 |
Command: chmod a+r RLMM -R && D:\biocbld\bbs-2.6-bioc\R\bin\R.exe CMD build RLMM |
StartedAt: 2010-10-04 13:49:00 -0700 (Mon, 04 Oct 2010) |
EndedAt: 2010-10-04 13:49:07 -0700 (Mon, 04 Oct 2010) |
EllapsedTime: 6.9 seconds |
RetCode: 0 |
Status: OK |
PackageFile: RLMM_1.10.0.tar.gz |
PackageFileSize: 243.9 KiB |
* checking for file 'RLMM/DESCRIPTION' ... OK * preparing 'RLMM': * checking DESCRIPTION meta-information ... OK * installing the package to re-build vignettes * installing *source* package 'RLMM' ... ** R ** inst ** preparing package for lazy loading ** help *** installing help indices ** building package indices ... ** testing if installed package can be loaded * DONE (RLMM) * creating vignettes ... OK * removing junk files * checking for LF line-endings in source and make files * checking for empty or unneeded directories * building 'RLMM_1.10.0.tar.gz'