Back to the "Multiple platform build/check report" | A B C D E F G H I J K L M N [O] P Q R S T U V W X Y Z |
Package 261/389 | Hostname | OS / Arch | BUILD | CHECK | BUILD BIN | ||||
OLIN 1.26.0 Matthias Futschik
| wilson1 | Linux (openSUSE 11.1) / x86_64 | OK | OK | |||||
liverpool | Windows Server 2003 R2 (32-bit) / x64 | OK | OK | OK | |||||
gewurz | Windows Server 2008 R2 Enterprise (64-bit) / x64 | OK | OK | OK | |||||
pelham | Mac OS X Leopard (10.5.8) / i386 | OK | OK | [ OK ] |
Package: OLIN |
Version: 1.26.0 |
Command: /Users/biocbuild/BBS/utils/build-universal.sh OLIN_1.26.0.tar.gz /Library/Frameworks/R.framework/Versions/2.11/Resources/bin/R OLIN.buildbin-libdir |
StartedAt: 2010-10-04 19:24:46 -0700 (Mon, 04 Oct 2010) |
EndedAt: 2010-10-04 19:24:53 -0700 (Mon, 04 Oct 2010) |
EllapsedTime: 6.8 seconds |
RetCode: 0 |
Status: OK |
PackageFile: OLIN_1.26.0.tgz |
PackageFileSize: 1.479 MiB |
INSTALLATION WITH 'R CMD INSTALL --preclean --library=OLIN.buildbin-libdir OLIN_1.26.0.tar.gz' * installing *source* package ‘OLIN’ ... ** R ** data ** inst ** preparing package for lazy loading Loading required package: akima Loading required package: lattice locfit 1.5-6 2010-01-20 Welcome to Bioconductor Vignettes contain introductory material. To view, type 'openVignette()'. To cite Bioconductor, see 'citation("Biobase")' and for packages 'citation(pkgname)'. Loading required package: limma ** help *** installing help indices ** building package indices ... ** testing if installed package can be loaded * DONE (OLIN)