* checking for file 'KCsmart/DESCRIPTION' ... OK
* preparing 'KCsmart':
* checking DESCRIPTION meta-information ... OK
* installing the package to re-build vignettes
* installing *source* package 'KCsmart' ...
** R
** data
** inst
** preparing package for lazy loading
Loading required package: multtest
Loading required package: Biobase
Welcome to Bioconductor
Vignettes contain introductory material. To view, type
'openVignette()'. To cite Bioconductor, see
'citation("Biobase")' and for packages 'citation(pkgname)'.
Loading required package: splines
Creating a new generic function for "sort" in "KCsmart"
Creating a new generic function for "unlist" in "KCsmart"
Creating a new generic function for "write.table" in "KCsmart"
** help
*** installing help indices
** building package indices ...
** testing if installed package can be loaded
* DONE (KCsmart)
* creating vignettes ... OK
* removing junk files
* checking for LF line-endings in source and make files
* checking for empty or unneeded directories
* building 'KCsmart_2.6.0.tar.gz'