Back to the "Multiple platform build/check report" | A B C D E F G [H] I J K L M N O P Q R S T U V W X Y Z |
Package 184/389 | Hostname | OS / Arch | BUILD | CHECK | BUILD BIN | ||||
Heatplus 1.18.0 Alexander Ploner
| wilson1 | Linux (openSUSE 11.1) / x86_64 | [ OK ] | OK | |||||
liverpool | Windows Server 2003 R2 (32-bit) / x64 | OK | OK | OK | |||||
gewurz | Windows Server 2008 R2 Enterprise (64-bit) / x64 | OK | OK | OK | |||||
pelham | Mac OS X Leopard (10.5.8) / i386 | OK | OK | OK |
Package: Heatplus |
Version: 1.18.0 |
Command: /home/biocbuild/bbs-2.6-bioc/R/bin/R CMD build Heatplus |
StartedAt: 2010-10-04 13:46:03 -0700 (Mon, 04 Oct 2010) |
EndedAt: 2010-10-04 13:46:10 -0700 (Mon, 04 Oct 2010) |
EllapsedTime: 6.4 seconds |
RetCode: 0 |
Status: OK |
PackageFile: Heatplus_1.18.0.tar.gz |
PackageFileSize: 220.5 KiB |
* checking for file 'Heatplus/DESCRIPTION' ... OK * preparing 'Heatplus': * checking DESCRIPTION meta-information ... OK * installing the package to re-build vignettes * installing *source* package 'Heatplus' ... ** R ** inst ** preparing package for lazy loading ** help *** installing help indices ** building package indices ... ** testing if installed package can be loaded * DONE (Heatplus) * creating vignettes ... OK * removing junk files * checking for LF line-endings in source and make files * checking for empty or unneeded directories * building 'Heatplus_1.18.0.tar.gz'