Back to the "Multiple platform build/check report" | A B C D E F [G] H I J K L M N O P Q R S T U V W X Y Z |
Package 152/389 | Hostname | OS / Arch | BUILD | CHECK | BUILD BIN | ||||
GeneticsDesign 1.16.0 The R Genetics Project
| wilson1 | Linux (openSUSE 11.1) / x86_64 | OK | OK | |||||
liverpool | Windows Server 2003 R2 (32-bit) / x64 | OK | OK | OK | |||||
gewurz | Windows Server 2008 R2 Enterprise (64-bit) / x64 | [ OK ] | OK | OK | |||||
pelham | Mac OS X Leopard (10.5.8) / i386 | OK | OK | OK |
Package: GeneticsDesign |
Version: 1.16.0 |
Command: chmod a+r GeneticsDesign -R && D:\biocbld\bbs-2.6-bioc\R\bin\R.exe CMD build GeneticsDesign |
StartedAt: 2010-10-04 14:07:38 -0700 (Mon, 04 Oct 2010) |
EndedAt: 2010-10-04 14:07:43 -0700 (Mon, 04 Oct 2010) |
EllapsedTime: 5.6 seconds |
RetCode: 0 |
Status: OK |
PackageFile: GeneticsDesign_1.16.0.tar.gz |
PackageFileSize: 211.4 KiB |
* checking for file 'GeneticsDesign/DESCRIPTION' ... OK * preparing 'GeneticsDesign': * checking DESCRIPTION meta-information ... OK * installing the package to re-build vignettes * installing *source* package 'GeneticsDesign' ... ** R ** inst ** preparing package for lazy loading ** help *** installing help indices ** building package indices ... ** testing if installed package can be loaded * DONE (GeneticsDesign) * creating vignettes ... OK * removing junk files * checking for LF line-endings in source and make files * checking for empty or unneeded directories * building 'GeneticsDesign_1.16.0.tar.gz'