* checking for file 'GeneSelector/DESCRIPTION' ... OK
* preparing 'GeneSelector':
* checking DESCRIPTION meta-information ... OK
* cleaning src
* installing the package to re-build vignettes
* installing *source* package 'GeneSelector' ...
** libs
making DLL ...
x86_64-w64-mingw32-gcc -I"D:/biocbld/bbs-2.6-bioc/R/include" -O2 -Wall -std=gnu99 -c kendall.c -o kendall.o
kendall.c: In function 'kendall':
kendall.c:3: warning: 'tau' may be used uninitialized in this function
x86_64-w64-mingw32-gcc -I"D:/biocbld/bbs-2.6-bioc/R/include" -O2 -Wall -std=gnu99 -c mcfour.c -o mcfour.o
x86_64-w64-mingw32-gcc -I"D:/biocbld/bbs-2.6-bioc/R/include" -O2 -Wall -std=gnu99 -c mct.c -o mct.o
x86_64-w64-mingw32-gcc -shared -s -static-libgcc -o GeneSelector.dll tmp.def kendall.o mcfour.o mct.o -LD:/biocbld/bbs-2.6-bioc/R/bin -lR
installing to D:/biocbld/bbs-2.6-bioc/tmpdir/Rinst263614938/GeneSelector/libs/x64
... done
** R
** data
** inst
** preparing package for lazy loading
** help
*** installing help indices
** building package indices ...
** testing if installed package can be loaded
* DONE (GeneSelector)
* creating vignettes ... OK
* cleaning src
* removing junk files
* checking for LF line-endings in source and make files
* checking for empty or unneeded directories
* building 'GeneSelector_2.4.0.tar.gz'