* checking for working pdflatex ... OK
* using log directory 'D:/biocbld/bbs-2.6-bioc/meat/CMA.Rcheck'
* using R version 2.11.1 (2010-05-31)
* using session charset: ISO8859-1
* using option '--no-vignettes'
* checking for file 'CMA/DESCRIPTION' ... OK
* checking extension type ... Package
* this is package 'CMA' version '1.6.0'
* checking package name space information ... OK
* checking package dependencies ... OK
* checking if this is a source package ... OK
* checking whether package 'CMA' can be installed ... OK
* checking package directory ... OK
* checking for portable file names ... OK
* checking DESCRIPTION meta-information ... OK
* checking top-level files ... OK
* checking index information ... OK
* checking package subdirectories ... OK
* checking R files for non-ASCII characters ... OK
* checking R files for syntax errors ... OK
* checking whether the package can be loaded ... OK
* checking whether the package can be loaded with stated dependencies ... OK
* checking whether the package can be unloaded cleanly ... OK
* checking whether the name space can be loaded with stated dependencies ... OK
* checking whether the name space can be unloaded cleanly ... OK
* checking for unstated dependencies in R code ... OK
* checking S3 generic/method consistency ... OK
* checking replacement functions ... OK
* checking foreign function calls ... OK
* checking R code for possible problems ... NOTE
rfe: no visible binding for global variable 'cost'
ROCinternal: no visible binding for global variable 'xlab'
ROCinternal: no visible binding for global variable 'ylab'
ROCinternal: no visible binding for global variable 'main'
ROCinternal: no visible binding for global variable 'lwd'
boxplot,evaloutput: no visible binding for global variable 'main'
compare,list: no visible binding for global variable 'main'
gbmCMA,matrix-numeric-missing: no visible binding for global variable
'n.minobsinnode'
gbmCMA,matrix-numeric-missing: no visible binding for global variable
'bag.fraction'
gbmCMA,matrix-numeric-missing: no visible binding for global variable
'n.trees'
gbmCMA,matrix-numeric-missing: no visible binding for global variable
'verbose'
nnetCMA,matrix-numeric-missing: no visible binding for global variable
'size'
nnetCMA,matrix-numeric-missing: no visible binding for global variable
'MaxNWts'
prediction,data.frame-missing-data.frame-formula: no visible global
function definition for 'predicition'
svmCMA,matrix-numeric-missing: no visible binding for global variable
'cost'
* checking Rd files ... OK
* checking Rd metadata ... OK
* checking Rd cross-references ... OK
* checking for missing documentation entries ... OK
* checking for code/documentation mismatches ... OK
* checking Rd \usage sections ... OK
* checking Rd contents ... OK
* checking data for non-ASCII characters ... OK
* checking examples ... OK
* checking package vignettes in 'inst/doc' ... SKIPPED
* checking PDF version of manual ... OK
* install options are ' --no-html'
* installing *source* package 'CMA' ...
** R
** data
** inst
** preparing package for lazy loading
Welcome to Bioconductor
Vignettes contain introductory material. To view, type
'openVignette()'. To cite Bioconductor, see
'citation("Biobase")' and for packages 'citation(pkgname)'.
** help
*** installing help indices
** building package indices ...
** testing if installed package can be loaded
* DONE (CMA)