* checking for file 'Biobase/DESCRIPTION' ... OK
* preparing 'Biobase':
* checking DESCRIPTION meta-information ... OK
* cleaning src
* installing the package to re-build vignettes
* installing *source* package 'Biobase' ...
** libs
gcc -std=gnu99 -I/home/biocbuild/bbs-2.6-bioc/R/include -I/usr/local/include -fpic -g -O2 -c Rinit.c -o Rinit.o
gcc -std=gnu99 -I/home/biocbuild/bbs-2.6-bioc/R/include -I/usr/local/include -fpic -g -O2 -c anyMissing.c -o anyMissing.o
gcc -std=gnu99 -I/home/biocbuild/bbs-2.6-bioc/R/include -I/usr/local/include -fpic -g -O2 -c envir.c -o envir.o
gcc -std=gnu99 -I/home/biocbuild/bbs-2.6-bioc/R/include -I/usr/local/include -fpic -g -O2 -c matchpt.c -o matchpt.o
gcc -std=gnu99 -I/home/biocbuild/bbs-2.6-bioc/R/include -I/usr/local/include -fpic -g -O2 -c rowMedians.c -o rowMedians.o
gcc -std=gnu99 -I/home/biocbuild/bbs-2.6-bioc/R/include -I/usr/local/include -fpic -g -O2 -c sublist_extract.c -o sublist_extract.o
gcc -std=gnu99 -shared -L/usr/local/lib64 -o Biobase.so Rinit.o anyMissing.o envir.o matchpt.o rowMedians.o sublist_extract.o -L/home/biocbuild/bbs-2.6-bioc/R/lib -lR
installing to /tmp/Rinst2643527270/Biobase/libs
** R
** data
** inst
** preparing package for lazy loading
** help
*** installing help indices
** building package indices ...
** testing if installed package can be loaded
* DONE (Biobase)
* creating vignettes ... OK
* cleaning src
* removing junk files
* checking for LF line-endings in source and make files
* checking for empty or unneeded directories
* building 'Biobase_2.8.0.tar.gz'