* checking for file 'BioMVCClass/DESCRIPTION' ... OK
* preparing 'BioMVCClass':
* checking DESCRIPTION meta-information ... OK
* installing the package to re-build vignettes
* installing *source* package 'BioMVCClass' ...
** R
** inst
** preparing package for lazy loading
Welcome to Bioconductor
Vignettes contain introductory material. To view, type
'openVignette()'. To cite Bioconductor, see
'citation("Biobase")' and for packages 'citation(pkgname)'.
Loading required package: grid
Attaching package: 'Rgraphviz'
The following object(s) are masked from 'package:MVCClass':
from
** help
*** installing help indices
** building package indices ...
** testing if installed package can be loaded
* DONE (BioMVCClass)
* creating vignettes ... OK
* removing junk files
* checking for LF line-endings in source and make files
* checking for empty or unneeded directories
* building 'BioMVCClass_1.16.0.tar.gz'