* checking for file 'BSgenome/DESCRIPTION' ... OK
* preparing 'BSgenome':
* checking DESCRIPTION meta-information ... OK
* installing the package to re-build vignettes
* installing *source* package 'BSgenome' ...
** R
** inst
** preparing package for lazy loading
Attaching package: 'IRanges'
The following object(s) are masked from 'package:base':
Map, cbind, mapply, order, paste, pmax, pmax.int, pmin, pmin.int,
rbind, rep.int, table
** help
*** installing help indices
** building package indices ...
** testing if installed package can be loaded
* DONE (BSgenome)
* creating vignettes ... OK
* removing junk files
* checking for LF line-endings in source and make files
* checking for empty or unneeded directories
WARNING: directory 'BSgenome/tests/unit' is empty
WARNING: directory 'BSgenome/inst/BSgenomeDataPkg-template/inst/extdata' is empty
* building 'BSgenome_1.16.5.tar.gz'