* checking for file 'BAC/DESCRIPTION' ... OK
* preparing 'BAC':
* checking DESCRIPTION meta-information ... OK
* cleaning src
* installing the package to re-build vignettes
* installing *source* package 'BAC' ...
** libs
gcc -std=gnu99 -I/home/biocbuild/bbs-2.6-bioc/R/include -I/usr/local/include -fpic -g -O2 -c BAC.c -o BAC.o
gcc -std=gnu99 -I/home/biocbuild/bbs-2.6-bioc/R/include -I/usr/local/include -fpic -g -O2 -c util.c -o util.o
gcc -std=gnu99 -shared -L/usr/local/lib64 -o BAC.so BAC.o util.o -L/home/biocbuild/bbs-2.6-bioc/R/lib -lR
installing to /tmp/Rinst150504580/BAC/libs
** R
** data
** inst
** preparing package for lazy loading
** help
*** installing help indices
** building package indices ...
** testing if installed package can be loaded
* DONE (BAC)
* creating vignettes ... OK
* cleaning src
* removing junk files
* checking for LF line-endings in source and make files
* checking for empty or unneeded directories
* building 'BAC_1.8.0.tar.gz'