Back to the "Multiple platform build/check report" | [A] B C D E F G H I J K L M N O P Q R S T U V W X Y Z |
Package 8/389 | Hostname | OS / Arch | BUILD | CHECK | BUILD BIN | ||||
AffyCompatible 1.8.0 Martin Morgan
| wilson1 | Linux (openSUSE 11.1) / x86_64 | OK | OK | |||||
liverpool | Windows Server 2003 R2 (32-bit) / x64 | OK | OK | OK | |||||
gewurz | Windows Server 2008 R2 Enterprise (64-bit) / x64 | OK | OK | OK | |||||
pelham | Mac OS X Leopard (10.5.8) / i386 | [ OK ] | OK | OK |
Package: AffyCompatible |
Version: 1.8.0 |
Command: /Library/Frameworks/R.framework/Versions/2.11/Resources/bin/R CMD build AffyCompatible |
StartedAt: 2010-10-04 14:37:11 -0700 (Mon, 04 Oct 2010) |
EndedAt: 2010-10-04 14:39:57 -0700 (Mon, 04 Oct 2010) |
EllapsedTime: 165.8 seconds |
RetCode: 0 |
Status: OK |
PackageFile: AffyCompatible_1.8.0.tar.gz |
PackageFileSize: 218.5 KiB |
* checking for file 'AffyCompatible/DESCRIPTION' ... OK * preparing 'AffyCompatible': * checking DESCRIPTION meta-information ... OK * installing the package to re-build vignettes * installing *source* package ‘AffyCompatible’ ... ** R ** inst ** preparing package for lazy loading Loading required package: bitops ** help *** installing help indices ** building package indices ... ** testing if installed package can be loaded * DONE (AffyCompatible) * creating vignettes ... OK * removing junk files * checking for LF line-endings in source and make files * checking for empty or unneeded directories * building 'AffyCompatible_1.8.0.tar.gz'