* installing *source* package 'yaqcaffy' ...
** R
** inst
** preparing package for lazy loading
Loading required package: affy
Loading required package: Biobase
Welcome to Bioconductor
Vignettes contain introductory material. To view, type
'openVignette()'. To cite Bioconductor, see
'citation("Biobase")' and for packages 'citation(pkgname)'.
Loading required package: genefilter
Loading required package: gcrma
Creating a new generic function for "summary" in "yaqcaffy"
Creating a new generic function for "merge" in "yaqcaffy"
Creating a new generic function for "identical" in "yaqcaffy"
** help
*** installing help indices
** building package indices ...
** testing if installed package can be loaded
* MD5 sums
packaged installation of 'yaqcaffy' as yaqcaffy_1.8.0.zip
* DONE (yaqcaffy)