Back to the "Multiple platform build/check report" | A B C D E F G H I J K L M N O P Q R S [T] U V W X Y Z |
Package 372/389 | Hostname | OS / Arch | BUILD | CHECK | BUILD BIN | ||||
timecourse 1.20.0 Yu Chuan Tai
| wilson1 | Linux (openSUSE 11.1) / x86_64 | OK | OK | |||||
liverpool | Windows Server 2003 R2 (32-bit) / x64 | OK | OK | OK | |||||
gewurz | Windows Server 2008 R2 Enterprise (64-bit) / x64 | OK | OK | OK | |||||
pelham | Mac OS X Leopard (10.5.8) / i386 | OK | OK | [ OK ] |
Package: timecourse |
Version: 1.20.0 |
Command: /Users/biocbuild/BBS/utils/build-universal.sh timecourse_1.20.0.tar.gz /Library/Frameworks/R.framework/Versions/2.11/Resources/bin/R timecourse.buildbin-libdir |
StartedAt: 2010-10-04 19:33:55 -0700 (Mon, 04 Oct 2010) |
EndedAt: 2010-10-04 19:33:59 -0700 (Mon, 04 Oct 2010) |
EllapsedTime: 3.8 seconds |
RetCode: 0 |
Status: OK |
PackageFile: timecourse_1.20.0.tgz |
PackageFileSize: 708.2 KiB |
INSTALLATION WITH 'R CMD INSTALL --preclean --library=timecourse.buildbin-libdir timecourse_1.20.0.tar.gz' * installing *source* package ‘timecourse’ ... ** R ** data ** inst ** preparing package for lazy loading Welcome to Bioconductor Vignettes contain introductory material. To view, type 'openVignette()'. To cite Bioconductor, see 'citation("Biobase")' and for packages 'citation(pkgname)'. ** help *** installing help indices ** building package indices ... ** testing if installed package can be loaded * DONE (timecourse)